BEGIN:VCALENDAR
VERSION:2.0
PRODID:-//Université Populaire de Philosophie - Association ALDERAN - ECPv6.15.17//NONSGML v1.0//EN
CALSCALE:GREGORIAN
METHOD:PUBLISH
X-ORIGINAL-URL:https://www.alderan-philo.org
X-WR-CALDESC:Évènements pour Université Populaire de Philosophie - Association ALDERAN
REFRESH-INTERVAL;VALUE=DURATION:PT1H
X-Robots-Tag:noindex
X-PUBLISHED-TTL:PT1H
BEGIN:VTIMEZONE
TZID:Europe/Paris
BEGIN:DAYLIGHT
TZOFFSETFROM:+0100
TZOFFSETTO:+0200
TZNAME:CEST
DTSTART:20210328T010000
END:DAYLIGHT
BEGIN:STANDARD
TZOFFSETFROM:+0200
TZOFFSETTO:+0100
TZNAME:CET
DTSTART:20211031T010000
END:STANDARD
BEGIN:DAYLIGHT
TZOFFSETFROM:+0100
TZOFFSETTO:+0200
TZNAME:CEST
DTSTART:20220327T010000
END:DAYLIGHT
BEGIN:STANDARD
TZOFFSETFROM:+0200
TZOFFSETTO:+0100
TZNAME:CET
DTSTART:20221030T010000
END:STANDARD
BEGIN:DAYLIGHT
TZOFFSETFROM:+0100
TZOFFSETTO:+0200
TZNAME:CEST
DTSTART:20230326T010000
END:DAYLIGHT
BEGIN:STANDARD
TZOFFSETFROM:+0200
TZOFFSETTO:+0100
TZNAME:CET
DTSTART:20231029T010000
END:STANDARD
END:VTIMEZONE
BEGIN:VEVENT
DTSTART;TZID=Europe/Paris:20220402T100000
DTEND;TZID=Europe/Paris:20220402T120000
DTSTAMP:20260425T162833
CREATED:20210909T143257Z
LAST-MODIFIED:20220216T163547Z
UID:7549-1648893600-1648900800@www.alderan-philo.org
SUMMARY:N°4 - LES SUNNITES\, LES CHIITES… ET LES AUTRES : DES CONFLITS FONDATEURS
DESCRIPTION:Le monde de l’islam incarne aujourd’hui en Europe la figure de l’Autre par excellence : le différent\, l’étranger\, l’ennemi trop souvent. Pour ne pas réduire l’islam à la caricature qu’en donnent les idéologies islamistes et ne pas céder aux tentations dangereuses de « l’islamophobie »\, il importe de conjurer l’étrangeté et de dissiper les ignorances\, en réintégrant l’islam dans la grande famille des monothéismes sémitiques et en lui restituant toute sa complexité historique. \n  \nParticipation en présentiel et en visioconférence via Zoom : Inscription préalable sur notre site \nParticipation : adhérent 20€ – non adhérent : 40€ \nPas de cours à l’unité – Participation au cycle complet \nCycle de cours disponible en replay dans le PASS PHILO pour les adhérents. \nRetour au programme complet sur les origines de l’Islam
URL:https://www.alderan-philo.org/activite/n4-les-sunnites-les-chiites-et-les-autres-des-conflits-fondateurs/
LOCATION:Maison de la philosophie\, 29 rue de la digue\, toulouse\, 31300\, France
CATEGORIES:Cycle "Islam"
ATTACH;FMTTYPE=image/jpeg:https://www.alderan-philo.org/wp-content/uploads/2021/09/Origines-Islam-Cours-N°4.jpg
ORGANIZER;CN="UPP - Universit%C3%A9 Populaire de Philosophie":MAILTO:philo@alderan-philo.org
END:VEVENT
BEGIN:VEVENT
DTSTART;TZID=Europe/Paris:20220409T100000
DTEND;TZID=Europe/Paris:20220409T120000
DTSTAMP:20260425T162833
CREATED:20210909T143548Z
LAST-MODIFIED:20220406T133157Z
UID:7552-1649498400-1649505600@www.alderan-philo.org
SUMMARY:N°5 - DÉBATS THÉOLOGIQUES ET CONSTRUCTION D’UNE «ORTHODOXIE»
DESCRIPTION:Le monde de l’islam incarne aujourd’hui en Europe la figure de l’Autre par excellence : le différent\, l’étranger\, l’ennemi trop souvent. Pour ne pas réduire l’islam à la caricature qu’en donnent les idéologies islamistes et ne pas céder aux tentations dangereuses de « l’islamophobie »\, il importe de conjurer l’étrangeté et de dissiper les ignorances\, en réintégrant l’islam dans la grande famille des monothéismes sémitiques et en lui restituant toute sa complexité historique. \n  \nParticipation en présentiel et en visioconférence via Zoom : Inscription préalable sur notre site \nParticipation : adhérent 20€ – non adhérent : 40€ \nPas de cours à l’unité – Participation au cycle complet \nCycle de cours disponible en replay dans le PASS PHILO pour les adhérents. \nRetour au programme complet sur les origines de l’Islam
URL:https://www.alderan-philo.org/activite/n5-debats-theologiques-et-construction-dune-orthodoxie/
LOCATION:Maison de la philosophie\, 29 rue de la digue\, toulouse\, 31300\, France
CATEGORIES:Cycle "Islam"
ATTACH;FMTTYPE=image/jpeg:https://www.alderan-philo.org/wp-content/uploads/2021/09/Origines-Islam-Cours-N°5.jpg
ORGANIZER;CN="UPP - Universit%C3%A9 Populaire de Philosophie":MAILTO:philo@alderan-philo.org
END:VEVENT
END:VCALENDAR