BEGIN:VCALENDAR
VERSION:2.0
PRODID:-//Université Populaire de Philosophie - Association ALDERAN - ECPv6.15.17//NONSGML v1.0//EN
CALSCALE:GREGORIAN
METHOD:PUBLISH
X-ORIGINAL-URL:https://www.alderan-philo.org
X-WR-CALDESC:Évènements pour Université Populaire de Philosophie - Association ALDERAN
REFRESH-INTERVAL;VALUE=DURATION:PT1H
X-Robots-Tag:noindex
X-PUBLISHED-TTL:PT1H
BEGIN:VTIMEZONE
TZID:Europe/Paris
BEGIN:DAYLIGHT
TZOFFSETFROM:+0100
TZOFFSETTO:+0200
TZNAME:CEST
DTSTART:20240331T010000
END:DAYLIGHT
BEGIN:STANDARD
TZOFFSETFROM:+0200
TZOFFSETTO:+0100
TZNAME:CET
DTSTART:20241027T010000
END:STANDARD
BEGIN:DAYLIGHT
TZOFFSETFROM:+0100
TZOFFSETTO:+0200
TZNAME:CEST
DTSTART:20250330T010000
END:DAYLIGHT
BEGIN:STANDARD
TZOFFSETFROM:+0200
TZOFFSETTO:+0100
TZNAME:CET
DTSTART:20251026T010000
END:STANDARD
BEGIN:DAYLIGHT
TZOFFSETFROM:+0100
TZOFFSETTO:+0200
TZNAME:CEST
DTSTART:20260329T010000
END:DAYLIGHT
BEGIN:STANDARD
TZOFFSETFROM:+0200
TZOFFSETTO:+0100
TZNAME:CET
DTSTART:20261025T010000
END:STANDARD
END:VTIMEZONE
BEGIN:VEVENT
DTSTART;TZID=Europe/Paris:20251106T180000
DTEND;TZID=Europe/Paris:20251106T200000
DTSTAMP:20260421T174855
CREATED:20250604T091311Z
LAST-MODIFIED:20250612T073047Z
UID:17538-1762452000-1762459200@www.alderan-philo.org
SUMMARY:Cycle LA CONDITION HUMAINE - N°1 - Nature du monde et nature de l'Homo sapiens
DESCRIPTION:Cycle « PENSER LA CONDITION HUMAINE » : 15 cours le jeudi soir\, de 18H à 20H sur les fondamentaux de la philosophie. \nL’axe directeur de ce cycle de cours est le “Connais-toi toi-même” socratique\, la première étape de la démarche philosophique. Il regroupe de manière structurée des enseignements philosophiques essentiels sur la nature humaine et la condition humaine. Ils sont autant d’instruments de connaissance de soi\, de réflexion\, d’épanouissement et de liberté. Un cycle philosophique pour éclairer son existence\, cultiver la raison et l’esprit critique\, favoriser la libre pensée et la réflexion\, s’émanciper des conditionnements et de l’ignorance\, revenir à l’essentiel de la démarche philosophique\, mieux se connaître\, autrui et le monde\, pour vivre mieux et plus heureux. \nParticipation en présentiel\, en visioconférence Zoom et replay. Possibilité de passer librement d’un mode à l’autre. Le replay des cours permet de les suivre en décalé\, de les rattraper ou de les revoir à volonté. \nInscription au cycle complet des 15 cours. : adhérent 25€ – non adhérent : 50€. Pas de cours à l’unité. \n\n1 –  NATURE DU MONDE ET DE L’HOMO SAPIENS \n2 –  INTRODUCTION À LA COMPLEXITÉ HUMAINE\n3 –  LA CONDITION HUMAINE – le défi d’être humain\n4 –  LA CONSCIENCE – l’essence de l’Être\n5 –  L’ATOMISME PSYCHIQUE – de la pluralité à l’unité de soi\n6 –  PENSER\, RÉFLÉCHIR\, RAISONNER\n7 –  PERSONNALITÉ ET INDIVIDUALITÉ\n8 –  L’ATTENTION – instrument de notre ouverture au monde\n9 –  LA VOLONTÉ – moteur de l’existence\n10 –  LE LIBRE ARBITRE ET LA LIBERTÉ\n11 –  L’ACTION JUSTE – introduction à une éthique de l’action\n12 –  L’AUTO-OBSERVATION – instrument de découverte de soi   \n13 –  LA VOIE DE L’ÉVEIL – de Somnus à Vigilare\n14 –  DÉPASSEMENT DE SOI ET ÉVOLUTION\n15   –  L’ÊTRE HUMAIN FACE À LA MORT\n\nRetour à la présentation complète du cycle « PENSER LA CONDITION HUMAINE ».
URL:https://www.alderan-philo.org/activite/cycle-la-condition-humaine-n1-nature-du-monde-et-nature-de-lhomo-sapiens-3/
LOCATION:Maison de la philosophie\, 29 rue de la digue\, toulouse\, 31300\, France
CATEGORIES:Cycle 1 - Condition humaine
ATTACH;FMTTYPE=image/jpeg:https://www.alderan-philo.org/wp-content/uploads/2021/09/1302-N°1-1.jpg
ORGANIZER;CN="UPP - Universit%C3%A9 Populaire de Philosophie":MAILTO:philo@alderan-philo.org
END:VEVENT
BEGIN:VEVENT
DTSTART;TZID=Europe/Paris:20251113T180000
DTEND;TZID=Europe/Paris:20251113T200000
DTSTAMP:20260421T174855
CREATED:20250612T122033Z
LAST-MODIFIED:20250612T122033Z
UID:17852-1763056800-1763064000@www.alderan-philo.org
SUMMARY:Cycle LA CONDITION HUMAINE - N°2 - Introduction à la complexité humaine
DESCRIPTION:Cycle « PENSER LA CONDITION HUMAINE » : 15 cours le jeudi soir\, de 18H à 20H sur les fondamentaux de la philosophie. \nL’axe directeur de ce cycle de cours est le “Connais-toi toi-même” socratique\, la première étape de la démarche philosophique. Il regroupe de manière structurée des enseignements philosophiques essentiels sur la nature humaine et la condition humaine. Ils sont autant d’instruments de connaissance de soi\, de réflexion\, d’épanouissement et de liberté. Un cycle philosophique pour éclairer son existence\, cultiver la raison et l’esprit critique\, favoriser la libre pensée et la réflexion\, s’émanciper des conditionnements et de l’ignorance\, revenir à l’essentiel de la démarche philosophique\, mieux se connaître\, autrui et le monde\, pour vivre mieux et plus heureux. \nParticipation en présentiel\, en visioconférence Zoom et replay. Possibilité de passer librement d’un mode à l’autre. Le replay des cours permet de les suivre en décalé\, de les rattraper ou de les revoir à volonté. \nInscription au cycle complet des 15 cours. : adhérent 25€ – non adhérent : 50€. Pas de cours à l’unité. \n\n1 –  NATURE DU MONDE ET DE L’HOMO SAPIENS \n2 –  INTRODUCTION À LA COMPLEXITÉ HUMAINE\n3 –  LA CONDITION HUMAINE – le défi d’être humain\n4 –  LA CONSCIENCE – l’essence de l’Être\n5 –  L’ATOMISME PSYCHIQUE – de la pluralité à l’unité de soi\n6 –  PENSER\, RÉFLÉCHIR\, RAISONNER\n7 –  PERSONNALITÉ ET INDIVIDUALITÉ\n8 –  L’ATTENTION – instrument de notre ouverture au monde\n9 –  LA VOLONTÉ – moteur de l’existence\n10 –  LE LIBRE ARBITRE ET LA LIBERTÉ\n11 –  L’ACTION JUSTE – introduction à une éthique de l’action\n12 –  L’AUTO-OBSERVATION – instrument de découverte de soi   \n13 –  LA VOIE DE L’ÉVEIL – de Somnus à Vigilare\n14 –  DÉPASSEMENT DE SOI ET ÉVOLUTION\n15   –  L’ÊTRE HUMAIN FACE À LA MORT\n\nRetour à la présentation complète du cycle « PENSER LA CONDITION HUMAINE ».
URL:https://www.alderan-philo.org/activite/cycle-la-condition-humaine-n2-introduction-a-la-complexite-humaine-3/
LOCATION:Maison de la philosophie\, 29 rue de la digue\, toulouse\, 31300\, France
CATEGORIES:Cycle 1 - Condition humaine
ATTACH;FMTTYPE=image/jpeg:https://www.alderan-philo.org/wp-content/uploads/2021/09/1302-N°2.jpg
ORGANIZER;CN="UPP - Universit%C3%A9 Populaire de Philosophie":MAILTO:philo@alderan-philo.org
END:VEVENT
BEGIN:VEVENT
DTSTART;TZID=Europe/Paris:20251120T180000
DTEND;TZID=Europe/Paris:20251120T200000
DTSTAMP:20260421T174855
CREATED:20250612T122451Z
LAST-MODIFIED:20250612T122451Z
UID:17854-1763661600-1763668800@www.alderan-philo.org
SUMMARY:Cycle LA CONDITION HUMAINE - N°3 - La condition humaine - Le défi d'être humain
DESCRIPTION:Cycle « PENSER LA CONDITION HUMAINE » : 15 cours le jeudi soir\, de 18H à 20H sur les fondamentaux de la philosophie. \nL’axe directeur de ce cycle de cours est le “Connais-toi toi-même” socratique\, la première étape de la démarche philosophique. Il regroupe de manière structurée des enseignements philosophiques essentiels sur la nature humaine et la condition humaine. Ils sont autant d’instruments de connaissance de soi\, de réflexion\, d’épanouissement et de liberté. Un cycle philosophique pour éclairer son existence\, cultiver la raison et l’esprit critique\, favoriser la libre pensée et la réflexion\, s’émanciper des conditionnements et de l’ignorance\, revenir à l’essentiel de la démarche philosophique\, mieux se connaître\, autrui et le monde\, pour vivre mieux et plus heureux. \nParticipation en présentiel\, en visioconférence Zoom et replay. Possibilité de passer librement d’un mode à l’autre. Le replay des cours permet de les suivre en décalé\, de les rattraper ou de les revoir à volonté. \nInscription au cycle complet des 15 cours. : adhérent 25€ – non adhérent : 50€. Pas de cours à l’unité. \n\n1 –  NATURE DU MONDE ET DE L’HOMO SAPIENS \n2 –  INTRODUCTION À LA COMPLEXITÉ HUMAINE\n3 –  LA CONDITION HUMAINE – le défi d’être humain\n4 –  LA CONSCIENCE – l’essence de l’Être\n5 –  L’ATOMISME PSYCHIQUE – de la pluralité à l’unité de soi\n6 –  PENSER\, RÉFLÉCHIR\, RAISONNER\n7 –  PERSONNALITÉ ET INDIVIDUALITÉ\n8 –  L’ATTENTION – instrument de notre ouverture au monde\n9 –  LA VOLONTÉ – moteur de l’existence\n10 –  LE LIBRE ARBITRE ET LA LIBERTÉ\n11 –  L’ACTION JUSTE – introduction à une éthique de l’action\n12 –  L’AUTO-OBSERVATION – instrument de découverte de soi   \n13 –  LA VOIE DE L’ÉVEIL – de Somnus à Vigilare\n14 –  DÉPASSEMENT DE SOI ET ÉVOLUTION\n15   –  L’ÊTRE HUMAIN FACE À LA MORT\n\nRetour à la présentation complète du cycle « PENSER LA CONDITION HUMAINE ».
URL:https://www.alderan-philo.org/activite/cycle-la-condition-humaine-n3-la-condition-humaine-le-defi-detre-humain-3/
LOCATION:Maison de la philosophie\, 29 rue de la digue\, toulouse\, 31300\, France
CATEGORIES:Cycle 1 - Condition humaine
ATTACH;FMTTYPE=image/jpeg:https://www.alderan-philo.org/wp-content/uploads/2021/09/1302-N°3.jpg
ORGANIZER;CN="UPP - Universit%C3%A9 Populaire de Philosophie":MAILTO:philo@alderan-philo.org
END:VEVENT
BEGIN:VEVENT
DTSTART;TZID=Europe/Paris:20251127T180000
DTEND;TZID=Europe/Paris:20251127T200000
DTSTAMP:20260421T174855
CREATED:20250612T122731Z
LAST-MODIFIED:20250612T122913Z
UID:17856-1764266400-1764273600@www.alderan-philo.org
SUMMARY:Cycle LA CONDITION HUMAINE - N°4 - La conscience - l’essence de l’être
DESCRIPTION:Cycle « PENSER LA CONDITION HUMAINE » : 15 cours le jeudi soir\, de 18H à 20H sur les fondamentaux de la philosophie. \nL’axe directeur de ce cycle de cours est le “Connais-toi toi-même” socratique\, la première étape de la démarche philosophique. Il regroupe de manière structurée des enseignements philosophiques essentiels sur la nature humaine et la condition humaine. Ils sont autant d’instruments de connaissance de soi\, de réflexion\, d’épanouissement et de liberté. Un cycle philosophique pour éclairer son existence\, cultiver la raison et l’esprit critique\, favoriser la libre pensée et la réflexion\, s’émanciper des conditionnements et de l’ignorance\, revenir à l’essentiel de la démarche philosophique\, mieux se connaître\, autrui et le monde\, pour vivre mieux et plus heureux. \nParticipation en présentiel\, en visioconférence Zoom et replay. Possibilité de passer librement d’un mode à l’autre. Le replay des cours permet de les suivre en décalé\, de les rattraper ou de les revoir à volonté. \nInscription au cycle complet des 15 cours. : adhérent 25€ – non adhérent : 50€. Pas de cours à l’unité. \n\n1 –  NATURE DU MONDE ET DE L’HOMO SAPIENS \n2 –  INTRODUCTION À LA COMPLEXITÉ HUMAINE\n3 –  LA CONDITION HUMAINE – le défi d’être humain\n4 –  LA CONSCIENCE – l’essence de l’Être\n5 –  L’ATOMISME PSYCHIQUE – de la pluralité à l’unité de soi\n6 –  PENSER\, RÉFLÉCHIR\, RAISONNER\n7 –  PERSONNALITÉ ET INDIVIDUALITÉ\n8 –  L’ATTENTION – instrument de notre ouverture au monde\n9 –  LA VOLONTÉ – moteur de l’existence\n10 –  LE LIBRE ARBITRE ET LA LIBERTÉ\n11 –  L’ACTION JUSTE – introduction à une éthique de l’action\n12 –  L’AUTO-OBSERVATION – instrument de découverte de soi   \n13 –  LA VOIE DE L’ÉVEIL – de Somnus à Vigilare\n14 –  DÉPASSEMENT DE SOI ET ÉVOLUTION\n15   –  L’ÊTRE HUMAIN FACE À LA MORT\n\nRetour à la présentation complète du cycle « PENSER LA CONDITION HUMAINE ».
URL:https://www.alderan-philo.org/activite/cycle-la-condition-humaine-n4-la-conscience-lessence-de-letre-4/
LOCATION:Maison de la philosophie\, 29 rue de la digue\, toulouse\, 31300\, France
CATEGORIES:Cycle 1 - Condition humaine
ATTACH;FMTTYPE=image/jpeg:https://www.alderan-philo.org/wp-content/uploads/2021/09/1302-N°4.jpg
ORGANIZER;CN="UPP - Universit%C3%A9 Populaire de Philosophie":MAILTO:philo@alderan-philo.org
END:VEVENT
END:VCALENDAR