BEGIN:VCALENDAR
VERSION:2.0
PRODID:-//Université Populaire de Philosophie - Association ALDERAN - ECPv6.15.17//NONSGML v1.0//EN
CALSCALE:GREGORIAN
METHOD:PUBLISH
X-ORIGINAL-URL:https://www.alderan-philo.org
X-WR-CALDESC:Évènements pour Université Populaire de Philosophie - Association ALDERAN
REFRESH-INTERVAL;VALUE=DURATION:PT1H
X-Robots-Tag:noindex
X-PUBLISHED-TTL:PT1H
BEGIN:VTIMEZONE
TZID:Europe/Paris
BEGIN:DAYLIGHT
TZOFFSETFROM:+0100
TZOFFSETTO:+0200
TZNAME:CEST
DTSTART:20240331T010000
END:DAYLIGHT
BEGIN:STANDARD
TZOFFSETFROM:+0200
TZOFFSETTO:+0100
TZNAME:CET
DTSTART:20241027T010000
END:STANDARD
BEGIN:DAYLIGHT
TZOFFSETFROM:+0100
TZOFFSETTO:+0200
TZNAME:CEST
DTSTART:20250330T010000
END:DAYLIGHT
BEGIN:STANDARD
TZOFFSETFROM:+0200
TZOFFSETTO:+0100
TZNAME:CET
DTSTART:20251026T010000
END:STANDARD
BEGIN:DAYLIGHT
TZOFFSETFROM:+0100
TZOFFSETTO:+0200
TZNAME:CEST
DTSTART:20260329T010000
END:DAYLIGHT
BEGIN:STANDARD
TZOFFSETFROM:+0200
TZOFFSETTO:+0100
TZNAME:CET
DTSTART:20261025T010000
END:STANDARD
END:VTIMEZONE
BEGIN:VEVENT
DTSTART;TZID=Europe/Paris:20250206T180000
DTEND;TZID=Europe/Paris:20250206T200000
DTSTAMP:20260422T100012
CREATED:20240803T171305Z
LAST-MODIFIED:20240803T171305Z
UID:16026-1738864800-1738872000@www.alderan-philo.org
SUMMARY:Cycle LA CONDITION HUMAINE - N°12 - L'auto-observation - instrument de découverte de soi
DESCRIPTION:L’axe directeur de ce cycle de cours est le “Connais-toi toi-même” socratique\, la première étape de la démarche philosophique. Il regroupe de manière structurée des enseignements philosophiques essentiels sur la nature humaine et la condition humaine. Ils sont autant d’instruments de connaissance de soi\, de réflexion\, d’épanouissement et de liberté. Un cycle philosophique pour éclairer son existence\, cultiver la raison et l’esprit critique\, favoriser la libre pensée et la réflexion\, s’émanciper des conditionnements et de l’ignorance\, revenir à l’essentiel de la démarche philosophique\, mieux se connaître\, autrui et le monde\, pour vivre mieux et plus heureux. \nParticipation au choix en présentiel\, en visioconférence Zoom et en replay : Inscription préalable sur notre site \nParticipation au cycle complet\, pour les 15 cours : adhérent 25€ – non adhérent : 50€. Pas de cours à l’unité.  \nRetour au programme complet de l’introduction à la condition humaine
URL:https://www.alderan-philo.org/activite/cycle-la-condition-humaine-n12-lauto-observation-instrument-de-decouverte-de-soi/
LOCATION:Maison de la philosophie\, 29 rue de la digue\, toulouse\, 31300\, France
CATEGORIES:Cycle 1 - Condition humaine
ATTACH;FMTTYPE=image/jpeg:https://www.alderan-philo.org/wp-content/uploads/2021/09/1302-N°12.jpg
ORGANIZER;CN="UPP - Universit%C3%A9 Populaire de Philosophie":MAILTO:philo@alderan-philo.org
END:VEVENT
BEGIN:VEVENT
DTSTART;TZID=Europe/Paris:20250213T180000
DTEND;TZID=Europe/Paris:20250213T200000
DTSTAMP:20260422T100012
CREATED:20240803T172940Z
LAST-MODIFIED:20240803T173345Z
UID:16025-1739469600-1739476800@www.alderan-philo.org
SUMMARY:Cycle LA CONDITION HUMAINE - N°13 - La voie de l’éveil - de somnus à vigilare
DESCRIPTION:L’axe directeur de ce cycle de cours est le “Connais-toi toi-même” socratique\, la première étape de la démarche philosophique. Il regroupe de manière structurée des enseignements philosophiques essentiels sur la nature humaine et la condition humaine. Ils sont autant d’instruments de connaissance de soi\, de réflexion\, d’épanouissement et de liberté. Un cycle philosophique pour éclairer son existence\, cultiver la raison et l’esprit critique\, favoriser la libre pensée et la réflexion\, s’émanciper des conditionnements et de l’ignorance\, revenir à l’essentiel de la démarche philosophique\, mieux se connaître\, autrui et le monde\, pour vivre mieux et plus heureux. \nParticipation au choix en présentiel\, en visioconférence Zoom et en replay : Inscription préalable sur notre site \nParticipation au cycle complet\, pour les 15 cours : adhérent 25€ – non adhérent : 50€. Pas de cours à l’unité.  \nRetour au programme complet de l’introduction à la condition humaine
URL:https://www.alderan-philo.org/activite/cycle-la-condition-humaine-n13-la-voie-de-leveil-de-somnus-a-vigilare/
LOCATION:Maison de la philosophie\, 29 rue de la digue\, toulouse\, 31300\, France
CATEGORIES:Cycle 1 - Condition humaine
ATTACH;FMTTYPE=image/jpeg:https://www.alderan-philo.org/wp-content/uploads/2021/09/1302-N°13.jpg
ORGANIZER;CN="UPP - Universit%C3%A9 Populaire de Philosophie":MAILTO:philo@alderan-philo.org
END:VEVENT
BEGIN:VEVENT
DTSTART;TZID=Europe/Paris:20250220T180000
DTEND;TZID=Europe/Paris:20250220T200000
DTSTAMP:20260422T100012
CREATED:20240803T181106Z
LAST-MODIFIED:20240804T040452Z
UID:16096-1740074400-1740081600@www.alderan-philo.org
SUMMARY:Cycle LA CONDITION HUMAINE - N°14 - Dépassement de soi et évolution
DESCRIPTION:L’axe directeur de ce cycle de cours est le “Connais-toi toi-même” socratique\, la première étape de la démarche philosophique. Il regroupe de manière structurée des enseignements philosophiques essentiels sur la nature humaine et la condition humaine. Ils sont autant d’instruments de connaissance de soi\, de réflexion\, d’épanouissement et de liberté. Un cycle philosophique pour éclairer son existence\, cultiver la raison et l’esprit critique\, favoriser la libre pensée et la réflexion\, s’émanciper des conditionnements et de l’ignorance\, revenir à l’essentiel de la démarche philosophique\, mieux se connaître\, autrui et le monde\, pour vivre mieux et plus heureux. \nParticipation au choix en présentiel\, en visioconférence Zoom et en replay : Inscription préalable sur notre site \nParticipation au cycle complet\, pour les 15 cours : adhérent 25€ – non adhérent : 50€. Pas de cours à l’unité.  \nRetour au programme complet de l’introduction à la condition humaine
URL:https://www.alderan-philo.org/activite/cycle-la-condition-humaine-n14-depassement-de-soi-et-evolution/
LOCATION:Maison de la philosophie\, 29 rue de la digue\, toulouse\, 31300\, France
CATEGORIES:Cycle 1 - Condition humaine
ATTACH;FMTTYPE=image/jpeg:https://www.alderan-philo.org/wp-content/uploads/2021/09/1302-N°14.jpg
ORGANIZER;CN="UPP - Universit%C3%A9 Populaire de Philosophie":MAILTO:philo@alderan-philo.org
END:VEVENT
BEGIN:VEVENT
DTSTART;TZID=Europe/Paris:20250227T180000
DTEND;TZID=Europe/Paris:20250227T200000
DTSTAMP:20260422T100012
CREATED:20240803T173629Z
LAST-MODIFIED:20240803T173629Z
UID:16023-1740679200-1740686400@www.alderan-philo.org
SUMMARY:Cycle LA CONDITION HUMAINE - N°15 - L'homme face à la mort
DESCRIPTION:L’axe directeur de ce cycle de cours est le “Connais-toi toi-même” socratique\, la première étape de la démarche philosophique. Il regroupe de manière structurée des enseignements philosophiques essentiels sur la nature humaine et la condition humaine. Ils sont autant d’instruments de connaissance de soi\, de réflexion\, d’épanouissement et de liberté. Un cycle philosophique pour éclairer son existence\, cultiver la raison et l’esprit critique\, favoriser la libre pensée et la réflexion\, s’émanciper des conditionnements et de l’ignorance\, revenir à l’essentiel de la démarche philosophique\, mieux se connaître\, autrui et le monde\, pour vivre mieux et plus heureux. \nParticipation au choix en présentiel\, en visioconférence Zoom et en replay : Inscription préalable sur notre site \nParticipation au cycle complet\, pour les 15 cours : adhérent 25€ – non adhérent : 50€. Pas de cours à l’unité.  \nRetour au programme complet de l’introduction à la condition humaine
URL:https://www.alderan-philo.org/activite/cycle-la-condition-humaine-n15-lhomme-face-a-la-mort/
LOCATION:Maison de la philosophie\, 29 rue de la digue\, toulouse\, 31300\, France
CATEGORIES:Cycle 1 - Condition humaine
ATTACH;FMTTYPE=image/jpeg:https://www.alderan-philo.org/wp-content/uploads/2021/09/1302-N°15.jpg
ORGANIZER;CN="UPP - Universit%C3%A9 Populaire de Philosophie":MAILTO:philo@alderan-philo.org
END:VEVENT
END:VCALENDAR