BEGIN:VCALENDAR
VERSION:2.0
PRODID:-//Université Populaire de Philosophie - Association ALDERAN - ECPv6.15.17//NONSGML v1.0//EN
CALSCALE:GREGORIAN
METHOD:PUBLISH
X-WR-CALNAME:Université Populaire de Philosophie - Association ALDERAN
X-ORIGINAL-URL:https://www.alderan-philo.org
X-WR-CALDESC:Évènements pour Université Populaire de Philosophie - Association ALDERAN
REFRESH-INTERVAL;VALUE=DURATION:PT1H
X-Robots-Tag:noindex
X-PUBLISHED-TTL:PT1H
BEGIN:VTIMEZONE
TZID:Europe/Paris
BEGIN:DAYLIGHT
TZOFFSETFROM:+0100
TZOFFSETTO:+0200
TZNAME:CEST
DTSTART:20240331T010000
END:DAYLIGHT
BEGIN:STANDARD
TZOFFSETFROM:+0200
TZOFFSETTO:+0100
TZNAME:CET
DTSTART:20241027T010000
END:STANDARD
BEGIN:DAYLIGHT
TZOFFSETFROM:+0100
TZOFFSETTO:+0200
TZNAME:CEST
DTSTART:20250330T010000
END:DAYLIGHT
BEGIN:STANDARD
TZOFFSETFROM:+0200
TZOFFSETTO:+0100
TZNAME:CET
DTSTART:20251026T010000
END:STANDARD
BEGIN:DAYLIGHT
TZOFFSETFROM:+0100
TZOFFSETTO:+0200
TZNAME:CEST
DTSTART:20260329T010000
END:DAYLIGHT
BEGIN:STANDARD
TZOFFSETFROM:+0200
TZOFFSETTO:+0100
TZNAME:CET
DTSTART:20261025T010000
END:STANDARD
END:VTIMEZONE
BEGIN:VEVENT
DTSTART;TZID=Europe/Paris:20250109T180000
DTEND;TZID=Europe/Paris:20250109T200000
DTSTAMP:20260422T113815
CREATED:20240803T170609Z
LAST-MODIFIED:20240803T170609Z
UID:16030-1736445600-1736452800@www.alderan-philo.org
SUMMARY:Cycle LA CONDITION HUMAINE - N°8 - L'attention - instrument de notre ouverture au monde
DESCRIPTION:L’axe directeur de ce cycle de cours est le “Connais-toi toi-même” socratique\, la première étape de la démarche philosophique. Il regroupe de manière structurée des enseignements philosophiques essentiels sur la nature humaine et la condition humaine. Ils sont autant d’instruments de connaissance de soi\, de réflexion\, d’épanouissement et de liberté. Un cycle philosophique pour éclairer son existence\, cultiver la raison et l’esprit critique\, favoriser la libre pensée et la réflexion\, s’émanciper des conditionnements et de l’ignorance\, revenir à l’essentiel de la démarche philosophique\, mieux se connaître\, autrui et le monde\, pour vivre mieux et plus heureux. \nParticipation au choix en présentiel\, en visioconférence Zoom et en replay : Inscription préalable sur notre site \nParticipation au cycle complet\, pour les 15 cours : adhérent 25€ – non adhérent : 50€. Pas de cours à l’unité.  \nRetour au programme complet de l’introduction à la condition humaine
URL:https://www.alderan-philo.org/activite/cycle-la-condition-humaine-n8-lattention-instrument-de-notre-ouverture-au-monde/
LOCATION:Maison de la philosophie\, 29 rue de la digue\, toulouse\, 31300\, France
CATEGORIES:Cycle 1 - Condition humaine
ATTACH;FMTTYPE=image/jpeg:https://www.alderan-philo.org/wp-content/uploads/2021/09/1302-N°8.jpg
ORGANIZER;CN="UPP - Universit%C3%A9 Populaire de Philosophie":MAILTO:philo@alderan-philo.org
END:VEVENT
BEGIN:VEVENT
DTSTART;TZID=Europe/Paris:20250116T180000
DTEND;TZID=Europe/Paris:20250116T200000
DTSTAMP:20260422T113815
CREATED:20240803T170802Z
LAST-MODIFIED:20240803T170802Z
UID:16029-1737050400-1737057600@www.alderan-philo.org
SUMMARY:Cycle LA CONDITION HUMAINE - N°9 - La volonté - moteur de l'existence
DESCRIPTION:L’axe directeur de ce cycle de cours est le “Connais-toi toi-même” socratique\, la première étape de la démarche philosophique. Il regroupe de manière structurée des enseignements philosophiques essentiels sur la nature humaine et la condition humaine. Ils sont autant d’instruments de connaissance de soi\, de réflexion\, d’épanouissement et de liberté. Un cycle philosophique pour éclairer son existence\, cultiver la raison et l’esprit critique\, favoriser la libre pensée et la réflexion\, s’émanciper des conditionnements et de l’ignorance\, revenir à l’essentiel de la démarche philosophique\, mieux se connaître\, autrui et le monde\, pour vivre mieux et plus heureux. \nParticipation au choix en présentiel\, en visioconférence Zoom et en replay : Inscription préalable sur notre site \nParticipation au cycle complet\, pour les 15 cours : adhérent 25€ – non adhérent : 50€. Pas de cours à l’unité.  \nRetour au programme complet de l’introduction à la condition humaine
URL:https://www.alderan-philo.org/activite/cycle-la-condition-humaine-n9-la-volonte-moteur-de-lexistence/
LOCATION:Maison de la philosophie\, 29 rue de la digue\, toulouse\, 31300\, France
CATEGORIES:Cycle 1 - Condition humaine
ATTACH;FMTTYPE=image/jpeg:https://www.alderan-philo.org/wp-content/uploads/2021/09/1302-N°9.jpg
ORGANIZER;CN="UPP - Universit%C3%A9 Populaire de Philosophie":MAILTO:philo@alderan-philo.org
END:VEVENT
BEGIN:VEVENT
DTSTART;TZID=Europe/Paris:20250123T180000
DTEND;TZID=Europe/Paris:20250123T200000
DTSTAMP:20260422T113815
CREATED:20240803T170945Z
LAST-MODIFIED:20240803T170945Z
UID:16028-1737655200-1737662400@www.alderan-philo.org
SUMMARY:Cycle LA CONDITION HUMAINE - N°10 - Le libre arbitre et la liberté
DESCRIPTION:L’axe directeur de ce cycle de cours est le “Connais-toi toi-même” socratique\, la première étape de la démarche philosophique. Il regroupe de manière structurée des enseignements philosophiques essentiels sur la nature humaine et la condition humaine. Ils sont autant d’instruments de connaissance de soi\, de réflexion\, d’épanouissement et de liberté. Un cycle philosophique pour éclairer son existence\, cultiver la raison et l’esprit critique\, favoriser la libre pensée et la réflexion\, s’émanciper des conditionnements et de l’ignorance\, revenir à l’essentiel de la démarche philosophique\, mieux se connaître\, autrui et le monde\, pour vivre mieux et plus heureux. \nParticipation au choix en présentiel\, en visioconférence Zoom et en replay : Inscription préalable sur notre site \nParticipation au cycle complet\, pour les 15 cours : adhérent 25€ – non adhérent : 50€. Pas de cours à l’unité.  \nRetour au programme complet de l’introduction à la condition humaine
URL:https://www.alderan-philo.org/activite/cycle-la-condition-humaine-n10-le-libre-arbitre-et-la-liberte/
LOCATION:Maison de la philosophie\, 29 rue de la digue\, toulouse\, 31300\, France
CATEGORIES:Cycle 1 - Condition humaine
ATTACH;FMTTYPE=image/jpeg:https://www.alderan-philo.org/wp-content/uploads/2021/09/1302-N°10.jpg
ORGANIZER;CN="UPP - Universit%C3%A9 Populaire de Philosophie":MAILTO:philo@alderan-philo.org
END:VEVENT
BEGIN:VEVENT
DTSTART;TZID=Europe/Paris:20250130T180000
DTEND;TZID=Europe/Paris:20250130T200000
DTSTAMP:20260422T113815
CREATED:20240803T171121Z
LAST-MODIFIED:20240803T171121Z
UID:16027-1738260000-1738267200@www.alderan-philo.org
SUMMARY:Cycle LA CONDITION HUMAINE - N°11 - L’action juste - introduction à une éthique de l'action
DESCRIPTION:L’axe directeur de ce cycle de cours est le “Connais-toi toi-même” socratique\, la première étape de la démarche philosophique. Il regroupe de manière structurée des enseignements philosophiques essentiels sur la nature humaine et la condition humaine. Ils sont autant d’instruments de connaissance de soi\, de réflexion\, d’épanouissement et de liberté. Un cycle philosophique pour éclairer son existence\, cultiver la raison et l’esprit critique\, favoriser la libre pensée et la réflexion\, s’émanciper des conditionnements et de l’ignorance\, revenir à l’essentiel de la démarche philosophique\, mieux se connaître\, autrui et le monde\, pour vivre mieux et plus heureux. \nParticipation au choix en présentiel\, en visioconférence Zoom et en replay : Inscription préalable sur notre site \nParticipation au cycle complet\, pour les 15 cours : adhérent 25€ – non adhérent : 50€. Pas de cours à l’unité.  \nRetour au programme complet de l’introduction à la condition humaine
URL:https://www.alderan-philo.org/activite/cycle-la-condition-humaine-n11-laction-juste-introduction-a-une-ethique-de-laction/
LOCATION:Maison de la philosophie\, 29 rue de la digue\, toulouse\, 31300\, France
CATEGORIES:Cycle 1 - Condition humaine
ATTACH;FMTTYPE=image/jpeg:https://www.alderan-philo.org/wp-content/uploads/2021/09/1302-N°11.jpg
ORGANIZER;CN="UPP - Universit%C3%A9 Populaire de Philosophie":MAILTO:philo@alderan-philo.org
END:VEVENT
END:VCALENDAR