BEGIN:VCALENDAR
VERSION:2.0
PRODID:-//Université Populaire de Philosophie - Association ALDERAN - ECPv6.15.17//NONSGML v1.0//EN
CALSCALE:GREGORIAN
METHOD:PUBLISH
X-WR-CALNAME:Université Populaire de Philosophie - Association ALDERAN
X-ORIGINAL-URL:https://www.alderan-philo.org
X-WR-CALDESC:Évènements pour Université Populaire de Philosophie - Association ALDERAN
REFRESH-INTERVAL;VALUE=DURATION:PT1H
X-Robots-Tag:noindex
X-PUBLISHED-TTL:PT1H
BEGIN:VTIMEZONE
TZID:Europe/Paris
BEGIN:DAYLIGHT
TZOFFSETFROM:+0100
TZOFFSETTO:+0200
TZNAME:CEST
DTSTART:20230326T010000
END:DAYLIGHT
BEGIN:STANDARD
TZOFFSETFROM:+0200
TZOFFSETTO:+0100
TZNAME:CET
DTSTART:20231029T010000
END:STANDARD
BEGIN:DAYLIGHT
TZOFFSETFROM:+0100
TZOFFSETTO:+0200
TZNAME:CEST
DTSTART:20240331T010000
END:DAYLIGHT
BEGIN:STANDARD
TZOFFSETFROM:+0200
TZOFFSETTO:+0100
TZNAME:CET
DTSTART:20241027T010000
END:STANDARD
BEGIN:DAYLIGHT
TZOFFSETFROM:+0100
TZOFFSETTO:+0200
TZNAME:CEST
DTSTART:20250330T010000
END:DAYLIGHT
BEGIN:STANDARD
TZOFFSETFROM:+0200
TZOFFSETTO:+0100
TZNAME:CET
DTSTART:20251026T010000
END:STANDARD
END:VTIMEZONE
BEGIN:VEVENT
DTSTART;TZID=Europe/Paris:20240404T180000
DTEND;TZID=Europe/Paris:20240404T200000
DTSTAMP:20260423T034137
CREATED:20230627T132954Z
LAST-MODIFIED:20230627T132959Z
UID:12344-1712253600-1712260800@www.alderan-philo.org
SUMMARY:La condition humaine N°4 – LA CONSCIENCE - l'essence de l’Être
DESCRIPTION:L’axe directeur de ce cycle de cours est le “Connais-toi toi-même” socratique\, la première étape de la démarche philosophique. Il regroupe de manière structurée des enseignements philosophiques essentiels sur la nature humaine et la condition humaine. Ils sont autant d’instruments de connaissance de soi\, de réflexion\, d’épanouissement et de liberté. Un cycle philosophique pour éclairer son existence\, cultiver la raison et l’esprit critique\, favoriser la libre pensée et la réflexion\, s’émanciper des conditionnements et de l’ignorance\, revenir à l’essentiel de la démarche philosophique\, mieux se connaître\, autrui et le monde\, pour vivre mieux et plus heureux. \nParticipation au choix en présentiel ou en visioconférence via Zoom : Inscription préalable sur notre site \nParticipation au cycle complet\, pour les 15 cours : adhérent 25€ – non adhérent : 50€. Pas de cours à l’unité.  \nRetour au programme complet de l’introduction à la condition humaine
URL:https://www.alderan-philo.org/activite/la-condition-humaine-n4-la-conscience-lessence-de-letre-2/
LOCATION:Maison de la philosophie\, 29 rue de la digue\, toulouse\, 31300\, France
CATEGORIES:Cycle 1 - Condition humaine
ATTACH;FMTTYPE=image/jpeg:https://www.alderan-philo.org/wp-content/uploads/2021/09/1302-N°4.jpg
ORGANIZER;CN="UPP - Universit%C3%A9 Populaire de Philosophie":MAILTO:philo@alderan-philo.org
END:VEVENT
BEGIN:VEVENT
DTSTART;TZID=Europe/Paris:20240411T180000
DTEND;TZID=Europe/Paris:20240411T200000
DTSTAMP:20260423T034137
CREATED:20230627T133407Z
LAST-MODIFIED:20230627T133413Z
UID:12347-1712858400-1712865600@www.alderan-philo.org
SUMMARY:La condition humaine N°5 – L'ATOMISME PSYCHIQUE - de la pluralité à l’unité de soi
DESCRIPTION:L’axe directeur de ce cycle de cours est le “Connais-toi toi-même” socratique\, la première étape de la démarche philosophique. Il regroupe de manière structurée des enseignements philosophiques essentiels sur la nature humaine et la condition humaine. Ils sont autant d’instruments de connaissance de soi\, de réflexion\, d’épanouissement et de liberté. Un cycle philosophique pour éclairer son existence\, cultiver la raison et l’esprit critique\, favoriser la libre pensée et la réflexion\, s’émanciper des conditionnements et de l’ignorance\, revenir à l’essentiel de la démarche philosophique\, mieux se connaître\, autrui et le monde\, pour vivre mieux et plus heureux. \nParticipation au choix en présentiel ou en visioconférence via Zoom : Inscription préalable sur notre site \nParticipation au cycle complet\, pour les 15 cours : adhérent 25€ – non adhérent : 50€. Pas de cours à l’unité.  \nRetour au programme complet de l’introduction à la condition humaine
URL:https://www.alderan-philo.org/activite/la-condition-humaine-n5-latomisme-psychique-de-la-pluralite-a-lunite-de-soi-2/
LOCATION:Maison de la philosophie\, 29 rue de la digue\, toulouse\, 31300\, France
CATEGORIES:Cycle 1 - Condition humaine
ATTACH;FMTTYPE=image/jpeg:https://www.alderan-philo.org/wp-content/uploads/2021/09/1302-N°5.jpg
ORGANIZER;CN="UPP - Universit%C3%A9 Populaire de Philosophie":MAILTO:philo@alderan-philo.org
END:VEVENT
BEGIN:VEVENT
DTSTART;TZID=Europe/Paris:20240418T180000
DTEND;TZID=Europe/Paris:20240418T200000
DTSTAMP:20260423T034137
CREATED:20230627T133658Z
LAST-MODIFIED:20230627T133703Z
UID:12349-1713463200-1713470400@www.alderan-philo.org
SUMMARY:La condition humaine N°6 – PENSER\, RÉFLÉCHIR\, RAISONNER
DESCRIPTION:L’axe directeur de ce cycle de cours est le “Connais-toi toi-même” socratique\, la première étape de la démarche philosophique. Il regroupe de manière structurée des enseignements philosophiques essentiels sur la nature humaine et la condition humaine. Ils sont autant d’instruments de connaissance de soi\, de réflexion\, d’épanouissement et de liberté. Un cycle philosophique pour éclairer son existence\, cultiver la raison et l’esprit critique\, favoriser la libre pensée et la réflexion\, s’émanciper des conditionnements et de l’ignorance\, revenir à l’essentiel de la démarche philosophique\, mieux se connaître\, autrui et le monde\, pour vivre mieux et plus heureux. \nParticipation au choix en présentiel ou en visioconférence via Zoom : Inscription préalable sur notre site \nParticipation au cycle complet\, pour les 15 cours : adhérent 25€ – non adhérent : 50€. Pas de cours à l’unité.  \nRetour au programme complet de l’introduction à la condition humaine
URL:https://www.alderan-philo.org/activite/la-condition-humaine-n6-penser-reflechir-raisonner-2/
LOCATION:Maison de la philosophie\, 29 rue de la digue\, toulouse\, 31300\, France
CATEGORIES:Cycle 1 - Condition humaine
ATTACH;FMTTYPE=image/jpeg:https://www.alderan-philo.org/wp-content/uploads/2021/09/1302-N°6.jpg
ORGANIZER;CN="UPP - Universit%C3%A9 Populaire de Philosophie":MAILTO:philo@alderan-philo.org
END:VEVENT
BEGIN:VEVENT
DTSTART;TZID=Europe/Paris:20240425T180000
DTEND;TZID=Europe/Paris:20240425T200000
DTSTAMP:20260423T034137
CREATED:20230627T133933Z
LAST-MODIFIED:20230627T133940Z
UID:12351-1714068000-1714075200@www.alderan-philo.org
SUMMARY:La condition humaine N°7 – PERSONNALITÉ ET INDIVIDUALITÉ
DESCRIPTION:L’axe directeur de ce cycle de cours est le “Connais-toi toi-même” socratique\, la première étape de la démarche philosophique. Il regroupe de manière structurée des enseignements philosophiques essentiels sur la nature humaine et la condition humaine. Ils sont autant d’instruments de connaissance de soi\, de réflexion\, d’épanouissement et de liberté. Un cycle philosophique pour éclairer son existence\, cultiver la raison et l’esprit critique\, favoriser la libre pensée et la réflexion\, s’émanciper des conditionnements et de l’ignorance\, revenir à l’essentiel de la démarche philosophique\, mieux se connaître\, autrui et le monde\, pour vivre mieux et plus heureux. \nParticipation au choix en présentiel ou en visioconférence via Zoom : Inscription préalable sur notre site \nParticipation au cycle complet\, pour les 15 cours : adhérent 25€ – non adhérent : 50€. Pas de cours à l’unité.  \nRetour au programme complet de l’introduction à la condition humaine
URL:https://www.alderan-philo.org/activite/la-condition-humaine-n7-personnalite-et-individualite-2/
LOCATION:Maison de la philosophie\, 29 rue de la digue\, toulouse\, 31300\, France
CATEGORIES:Cycle 1 - Condition humaine
ATTACH;FMTTYPE=image/jpeg:https://www.alderan-philo.org/wp-content/uploads/2021/09/1302-N°7.jpg
ORGANIZER;CN="UPP - Universit%C3%A9 Populaire de Philosophie":MAILTO:philo@alderan-philo.org
END:VEVENT
END:VCALENDAR