BEGIN:VCALENDAR
VERSION:2.0
PRODID:-//Université Populaire de Philosophie - Association ALDERAN - ECPv6.15.17//NONSGML v1.0//EN
CALSCALE:GREGORIAN
METHOD:PUBLISH
X-ORIGINAL-URL:https://www.alderan-philo.org
X-WR-CALDESC:Évènements pour Université Populaire de Philosophie - Association ALDERAN
REFRESH-INTERVAL;VALUE=DURATION:PT1H
X-Robots-Tag:noindex
X-PUBLISHED-TTL:PT1H
BEGIN:VTIMEZONE
TZID:Europe/Paris
BEGIN:DAYLIGHT
TZOFFSETFROM:+0100
TZOFFSETTO:+0200
TZNAME:CEST
DTSTART:20220327T010000
END:DAYLIGHT
BEGIN:STANDARD
TZOFFSETFROM:+0200
TZOFFSETTO:+0100
TZNAME:CET
DTSTART:20221030T010000
END:STANDARD
BEGIN:DAYLIGHT
TZOFFSETFROM:+0100
TZOFFSETTO:+0200
TZNAME:CEST
DTSTART:20230326T010000
END:DAYLIGHT
BEGIN:STANDARD
TZOFFSETFROM:+0200
TZOFFSETTO:+0100
TZNAME:CET
DTSTART:20231029T010000
END:STANDARD
BEGIN:DAYLIGHT
TZOFFSETFROM:+0100
TZOFFSETTO:+0200
TZNAME:CEST
DTSTART:20240331T010000
END:DAYLIGHT
BEGIN:STANDARD
TZOFFSETFROM:+0200
TZOFFSETTO:+0100
TZNAME:CET
DTSTART:20241027T010000
END:STANDARD
END:VTIMEZONE
BEGIN:VEVENT
DTSTART;TZID=Europe/Paris:20231109T180000
DTEND;TZID=Europe/Paris:20231109T200000
DTSTAMP:20260423T122912
CREATED:20230627T092239Z
LAST-MODIFIED:20230627T092244Z
UID:12304-1699552800-1699560000@www.alderan-philo.org
SUMMARY:La condition humaine N°1 - NATURE DU MONDE ET DE L’HOMO SAPIENS
DESCRIPTION:L’axe directeur de ce cycle de cours est le “Connais-toi toi-même” socratique\, la première étape de la démarche philosophique. Il regroupe de manière structurée des enseignements philosophiques essentiels sur la nature humaine et la condition humaine. Ils sont autant d’instruments de connaissance de soi\, de réflexion\, d’épanouissement et de liberté. Un cycle philosophique pour éclairer son existence\, cultiver la raison et l’esprit critique\, favoriser la libre pensée et la réflexion\, s’émanciper des conditionnements et de l’ignorance\, revenir à l’essentiel de la démarche philosophique\, mieux se connaître\, autrui et le monde\, pour vivre mieux et plus heureux. \nParticipation au choix en présentiel ou en visioconférence via Zoom : Inscription préalable sur notre site \nParticipation au cycle complet\, pour les 15 cours : adhérent 25€ – non adhérent : 50€. Pas de cours à l’unité.  \nRetour au programme complet de l’introduction à la condition humaine
URL:https://www.alderan-philo.org/activite/la-condition-humaine-n1-nature-du-monde-et-de-lhomo-sapiens-2/
LOCATION:Maison de la philosophie\, 29 rue de la digue\, toulouse\, 31300\, France
CATEGORIES:Cycle 1 - Condition humaine
ATTACH;FMTTYPE=image/jpeg:https://www.alderan-philo.org/wp-content/uploads/2021/09/1302-N°1-1.jpg
ORGANIZER;CN="UPP - Universit%C3%A9 Populaire de Philosophie":MAILTO:philo@alderan-philo.org
END:VEVENT
BEGIN:VEVENT
DTSTART;TZID=Europe/Paris:20231116T180000
DTEND;TZID=Europe/Paris:20231116T200000
DTSTAMP:20260423T122912
CREATED:20230627T092549Z
LAST-MODIFIED:20230905T132327Z
UID:12307-1700157600-1700164800@www.alderan-philo.org
SUMMARY:La condition humaine N°2 - INTRODUCTION À LA COMPLEXITÉ HUMAINE
DESCRIPTION:L’axe directeur de ce cycle de cours est le “Connais-toi toi-même” socratique\, la première étape de la démarche philosophique. Il regroupe de manière structurée des enseignements philosophiques essentiels sur la nature humaine et la condition humaine. Ils sont autant d’instruments de connaissance de soi\, de réflexion\, d’épanouissement et de liberté. Un cycle philosophique pour éclairer son existence\, cultiver la raison et l’esprit critique\, favoriser la libre pensée et la réflexion\, s’émanciper des conditionnements et de l’ignorance\, revenir à l’essentiel de la démarche philosophique\, mieux se connaître\, autrui et le monde\, pour vivre mieux et plus heureux. \nParticipation au choix en présentiel ou en visioconférence via Zoom : Inscription préalable sur notre site \nParticipation au cycle complet\, pour les 15 cours : adhérent 25€ – non adhérent : 50€. Pas de cours à l’unité.  \nRetour au programme complet de l’introduction à la condition humaine
URL:https://www.alderan-philo.org/activite/la-condition-humaine-n2-introduction-a-la-complexite-humaine/
LOCATION:Maison de la philosophie\, 29 rue de la digue\, toulouse\, 31300\, France
CATEGORIES:Cycle 1 - Condition humaine
ATTACH;FMTTYPE=image/jpeg:https://www.alderan-philo.org/wp-content/uploads/2021/09/1302-N°2.jpg
ORGANIZER;CN="UPP - Universit%C3%A9 Populaire de Philosophie":MAILTO:philo@alderan-philo.org
END:VEVENT
BEGIN:VEVENT
DTSTART;TZID=Europe/Paris:20231123T180000
DTEND;TZID=Europe/Paris:20231123T200000
DTSTAMP:20260423T122912
CREATED:20230627T132243Z
LAST-MODIFIED:20230627T132248Z
UID:12342-1700762400-1700769600@www.alderan-philo.org
SUMMARY:La condition humaine N°3 - LA CONDITION HUMAINE - Le défi d'être humain
DESCRIPTION:L’axe directeur de ce cycle de cours est le “Connais-toi toi-même” socratique\, la première étape de la démarche philosophique. Il regroupe de manière structurée des enseignements philosophiques essentiels sur la nature humaine et la condition humaine. Ils sont autant d’instruments de connaissance de soi\, de réflexion\, d’épanouissement et de liberté. Un cycle philosophique pour éclairer son existence\, cultiver la raison et l’esprit critique\, favoriser la libre pensée et la réflexion\, s’émanciper des conditionnements et de l’ignorance\, revenir à l’essentiel de la démarche philosophique\, mieux se connaître\, autrui et le monde\, pour vivre mieux et plus heureux. \nParticipation au choix en présentiel ou en visioconférence via Zoom : Inscription préalable sur notre site \nParticipation au cycle complet\, pour les 15 cours : adhérent 25€ – non adhérent : 50€. Pas de cours à l’unité.  \nRetour au programme complet de l’introduction à la condition humaine
URL:https://www.alderan-philo.org/activite/la-condition-humaine-n3-la-condition-humaine-le-defi-detre-humain-2/
LOCATION:Maison de la philosophie\, 29 rue de la digue\, toulouse\, 31300\, France
CATEGORIES:Cycle 1 - Condition humaine
ATTACH;FMTTYPE=image/jpeg:https://www.alderan-philo.org/wp-content/uploads/2021/09/1302-N°3.jpg
ORGANIZER;CN="UPP - Universit%C3%A9 Populaire de Philosophie":MAILTO:philo@alderan-philo.org
END:VEVENT
BEGIN:VEVENT
DTSTART;TZID=Europe/Paris:20231130T180000
DTEND;TZID=Europe/Paris:20231130T200000
DTSTAMP:20260423T122912
CREATED:20230627T093147Z
LAST-MODIFIED:20230627T093153Z
UID:12311-1701367200-1701374400@www.alderan-philo.org
SUMMARY:La condition humaine N°4 – LA CONSCIENCE - l'essence de l’Être
DESCRIPTION:L’axe directeur de ce cycle de cours est le “Connais-toi toi-même” socratique\, la première étape de la démarche philosophique. Il regroupe de manière structurée des enseignements philosophiques essentiels sur la nature humaine et la condition humaine. Ils sont autant d’instruments de connaissance de soi\, de réflexion\, d’épanouissement et de liberté. Un cycle philosophique pour éclairer son existence\, cultiver la raison et l’esprit critique\, favoriser la libre pensée et la réflexion\, s’émanciper des conditionnements et de l’ignorance\, revenir à l’essentiel de la démarche philosophique\, mieux se connaître\, autrui et le monde\, pour vivre mieux et plus heureux. \nParticipation au choix en présentiel ou en visioconférence via Zoom : Inscription préalable sur notre site \nParticipation au cycle complet\, pour les 15 cours : adhérent 25€ – non adhérent : 50€. Pas de cours à l’unité.  \nRetour au programme complet de l’introduction à la condition humaine
URL:https://www.alderan-philo.org/activite/la-condition-humaine-n4-la-conscience-lessence-de-letre/
LOCATION:Maison de la philosophie\, 29 rue de la digue\, toulouse\, 31300\, France
CATEGORIES:Cycle 1 - Condition humaine
ATTACH;FMTTYPE=image/jpeg:https://www.alderan-philo.org/wp-content/uploads/2021/09/1302-N°4.jpg
ORGANIZER;CN="UPP - Universit%C3%A9 Populaire de Philosophie":MAILTO:philo@alderan-philo.org
END:VEVENT
END:VCALENDAR