BEGIN:VCALENDAR
VERSION:2.0
PRODID:-//Université Populaire de Philosophie - Association ALDERAN - ECPv6.15.17//NONSGML v1.0//EN
CALSCALE:GREGORIAN
METHOD:PUBLISH
X-WR-CALNAME:Université Populaire de Philosophie - Association ALDERAN
X-ORIGINAL-URL:https://www.alderan-philo.org
X-WR-CALDESC:Évènements pour Université Populaire de Philosophie - Association ALDERAN
REFRESH-INTERVAL;VALUE=DURATION:PT1H
X-Robots-Tag:noindex
X-PUBLISHED-TTL:PT1H
BEGIN:VTIMEZONE
TZID:Europe/Paris
BEGIN:DAYLIGHT
TZOFFSETFROM:+0100
TZOFFSETTO:+0200
TZNAME:CEST
DTSTART:20220327T010000
END:DAYLIGHT
BEGIN:STANDARD
TZOFFSETFROM:+0200
TZOFFSETTO:+0100
TZNAME:CET
DTSTART:20221030T010000
END:STANDARD
BEGIN:DAYLIGHT
TZOFFSETFROM:+0100
TZOFFSETTO:+0200
TZNAME:CEST
DTSTART:20230326T010000
END:DAYLIGHT
BEGIN:STANDARD
TZOFFSETFROM:+0200
TZOFFSETTO:+0100
TZNAME:CET
DTSTART:20231029T010000
END:STANDARD
BEGIN:DAYLIGHT
TZOFFSETFROM:+0100
TZOFFSETTO:+0200
TZNAME:CEST
DTSTART:20240331T010000
END:DAYLIGHT
BEGIN:STANDARD
TZOFFSETFROM:+0200
TZOFFSETTO:+0100
TZNAME:CET
DTSTART:20241027T010000
END:STANDARD
END:VTIMEZONE
BEGIN:VEVENT
DTSTART;TZID=Europe/Paris:20230601T180000
DTEND;TZID=Europe/Paris:20230601T200000
DTSTAMP:20260425T152917
CREATED:20210910T133948Z
LAST-MODIFIED:20220902T101847Z
UID:7702-1685642400-1685649600@www.alderan-philo.org
SUMMARY:La condition humaine N°12 - L'AUTO-OBSERVATION - instrument de découverte de soi
DESCRIPTION:Pour éclairer son existence\, cultiver la raison et l’esprit critique\, favoriser la libre pensée et la réflexion\, s’émanciper des conditionnements et de l’ignorance\, revenir à l’essentiel de la démarche philosophique\, mieux se connaître\, autrui et le monde\, pour vivre mieux et plus heureux. \n  \nParticipation en présentiel et en visioconférence via Zoom : Inscription préalable sur notre site \nParticipation « session printemps » : adhérent 25€ – non adhérent : 50€ \nPas de cours à l’unité \nL’inscription comporte automatiquement un replay des cours\, qui vous permet de rattraper ou de revoir les cours à volonté. \nRetour au programme complet de l’introduction à la condition humaine
URL:https://www.alderan-philo.org/activite/n12-lauto-observation-instrument-de-decouverte-de-soi-4/
LOCATION:Maison de la philosophie\, 29 rue de la digue\, toulouse\, 31300\, France
CATEGORIES:Cycle 1 - Condition humaine
ATTACH;FMTTYPE=image/jpeg:https://www.alderan-philo.org/wp-content/uploads/2021/09/1302-N°12.jpg
ORGANIZER;CN="UPP - Universit%C3%A9 Populaire de Philosophie":MAILTO:philo@alderan-philo.org
END:VEVENT
BEGIN:VEVENT
DTSTART;TZID=Europe/Paris:20230606T180000
DTEND;TZID=Europe/Paris:20230606T200000
DTSTAMP:20260425T152917
CREATED:20230627T143432Z
LAST-MODIFIED:20230627T143436Z
UID:12363-1686074400-1686081600@www.alderan-philo.org
SUMMARY:La condition humaine N°13 – LA VOIE DE L'EVEIL - De Somnus à Vigilare
DESCRIPTION:L’axe directeur de ce cycle de cours est le “Connais-toi toi-même” socratique\, la première étape de la démarche philosophique. Il regroupe de manière structurée des enseignements philosophiques essentiels sur la nature humaine et la condition humaine. Ils sont autant d’instruments de connaissance de soi\, de réflexion\, d’épanouissement et de liberté. Un cycle philosophique pour éclairer son existence\, cultiver la raison et l’esprit critique\, favoriser la libre pensée et la réflexion\, s’émanciper des conditionnements et de l’ignorance\, revenir à l’essentiel de la démarche philosophique\, mieux se connaître\, autrui et le monde\, pour vivre mieux et plus heureux. \nParticipation au choix en présentiel ou en visioconférence via Zoom : Inscription préalable sur notre site \nParticipation au cycle complet\, pour les 15 cours : adhérent 25€ – non adhérent : 50€. Pas de cours à l’unité.  \nRetour au programme complet de l’introduction à la condition humaine
URL:https://www.alderan-philo.org/activite/la-condition-humaine-n13-la-voie-de-leveil-de-somnus-a-vigilare-2/
LOCATION:Maison de la philosophie\, 29 rue de la digue\, toulouse\, 31300\, France
CATEGORIES:Cycle 1 - Condition humaine
ATTACH;FMTTYPE=image/jpeg:https://www.alderan-philo.org/wp-content/uploads/2021/09/1302-N°13.jpg
ORGANIZER;CN="UPP - Universit%C3%A9 Populaire de Philosophie":MAILTO:philo@alderan-philo.org
END:VEVENT
BEGIN:VEVENT
DTSTART;TZID=Europe/Paris:20230608T180000
DTEND;TZID=Europe/Paris:20230608T200000
DTSTAMP:20260425T152917
CREATED:20210910T134105Z
LAST-MODIFIED:20220902T101935Z
UID:7704-1686247200-1686254400@www.alderan-philo.org
SUMMARY:La condition humaine N°13 - LA VOIE DE L’ÉVEIL - de Somnus à Vigilare
DESCRIPTION:Pour éclairer son existence\, cultiver la raison et l’esprit critique\, favoriser la libre pensée et la réflexion\, s’émanciper des conditionnements et de l’ignorance\, revenir à l’essentiel de la démarche philosophique\, mieux se connaître\, autrui et le monde\, pour vivre mieux et plus heureux. \n  \nParticipation en présentiel et en visioconférence via Zoom : Inscription préalable sur notre site \nParticipation « session printemps » : adhérent 25€ – non adhérent : 50€ \nPas de cours à l’unité \nL’inscription comporte automatiquement un replay des cours\, qui vous permet de rattraper ou de revoir les cours à volonté. \nRetour au programme complet de l’introduction à la condition humaine
URL:https://www.alderan-philo.org/activite/n13-la-voie-de-leveil-de-somnus-a-vigilare-4/
LOCATION:Maison de la philosophie\, 29 rue de la digue\, toulouse\, 31300\, France
CATEGORIES:Cycle 1 - Condition humaine
ATTACH;FMTTYPE=image/jpeg:https://www.alderan-philo.org/wp-content/uploads/2021/09/1302-N°13.jpg
ORGANIZER;CN="UPP - Universit%C3%A9 Populaire de Philosophie":MAILTO:philo@alderan-philo.org
END:VEVENT
BEGIN:VEVENT
DTSTART;TZID=Europe/Paris:20230615T180000
DTEND;TZID=Europe/Paris:20230615T200000
DTSTAMP:20260425T152917
CREATED:20210910T134232Z
LAST-MODIFIED:20220902T102033Z
UID:7706-1686852000-1686859200@www.alderan-philo.org
SUMMARY:La condition humaine N°14 - DÉPASSEMENT DE SOI ET ÉVOLUTION
DESCRIPTION:Pour éclairer son existence\, cultiver la raison et l’esprit critique\, favoriser la libre pensée et la réflexion\, s’émanciper des conditionnements et de l’ignorance\, revenir à l’essentiel de la démarche philosophique\, mieux se connaître\, autrui et le monde\, pour vivre mieux et plus heureux. \n  \nParticipation en présentiel et en visioconférence via Zoom : Inscription préalable sur notre site \nParticipation « session printemps » : adhérent 25€ – non adhérent : 50€ \nPas de cours à l’unité \nL’inscription comporte automatiquement un replay des cours\, qui vous permet de rattraper ou de revoir les cours à volonté. \nRetour au programme complet de l’introduction à la condition humaine
URL:https://www.alderan-philo.org/activite/n14-depassement-de-soi-et-evolution-4/
LOCATION:Maison de la philosophie\, 29 rue de la digue\, toulouse\, 31300\, France
CATEGORIES:Cycle 1 - Condition humaine
ATTACH;FMTTYPE=image/jpeg:https://www.alderan-philo.org/wp-content/uploads/2021/09/1302-N°14.jpg
ORGANIZER;CN="UPP - Universit%C3%A9 Populaire de Philosophie":MAILTO:philo@alderan-philo.org
END:VEVENT
BEGIN:VEVENT
DTSTART;TZID=Europe/Paris:20230622T180000
DTEND;TZID=Europe/Paris:20230622T200000
DTSTAMP:20260425T152917
CREATED:20210910T134400Z
LAST-MODIFIED:20220902T102122Z
UID:7708-1687456800-1687464000@www.alderan-philo.org
SUMMARY:La condition humaine N°15 - L'HOMME FACE A LA MORT
DESCRIPTION:Pour éclairer son existence\, cultiver la raison et l’esprit critique\, favoriser la libre pensée et la réflexion\, s’émanciper des conditionnements et de l’ignorance\, revenir à l’essentiel de la démarche philosophique\, mieux se connaître\, autrui et le monde\, pour vivre mieux et plus heureux. \n  \nParticipation en présentiel et en visioconférence via Zoom : Inscription préalable sur notre site \nParticipation « session printemps » : adhérent 25€ – non adhérent : 50€ \nPas de cours à l’unité \nL’inscription comporte automatiquement un replay des cours\, qui vous permet de rattraper ou de revoir les cours à volonté. \nRetour au programme complet de l’introduction à la condition humaine
URL:https://www.alderan-philo.org/activite/n15-lhomme-face-a-la-mort-4/
LOCATION:Maison de la philosophie\, 29 rue de la digue\, toulouse\, 31300\, France
CATEGORIES:Cycle 1 - Condition humaine
ATTACH;FMTTYPE=image/jpeg:https://www.alderan-philo.org/wp-content/uploads/2021/09/1302-N°15.jpg
ORGANIZER;CN="UPP - Universit%C3%A9 Populaire de Philosophie":MAILTO:philo@alderan-philo.org
END:VEVENT
END:VCALENDAR