BEGIN:VCALENDAR
VERSION:2.0
PRODID:-//Université Populaire de Philosophie - Association ALDERAN - ECPv6.15.17//NONSGML v1.0//EN
CALSCALE:GREGORIAN
METHOD:PUBLISH
X-WR-CALNAME:Université Populaire de Philosophie - Association ALDERAN
X-ORIGINAL-URL:https://www.alderan-philo.org
X-WR-CALDESC:Évènements pour Université Populaire de Philosophie - Association ALDERAN
REFRESH-INTERVAL;VALUE=DURATION:PT1H
X-Robots-Tag:noindex
X-PUBLISHED-TTL:PT1H
BEGIN:VTIMEZONE
TZID:Europe/Paris
BEGIN:DAYLIGHT
TZOFFSETFROM:+0100
TZOFFSETTO:+0200
TZNAME:CEST
DTSTART:20220327T010000
END:DAYLIGHT
BEGIN:STANDARD
TZOFFSETFROM:+0200
TZOFFSETTO:+0100
TZNAME:CET
DTSTART:20221030T010000
END:STANDARD
BEGIN:DAYLIGHT
TZOFFSETFROM:+0100
TZOFFSETTO:+0200
TZNAME:CEST
DTSTART:20230326T010000
END:DAYLIGHT
BEGIN:STANDARD
TZOFFSETFROM:+0200
TZOFFSETTO:+0100
TZNAME:CET
DTSTART:20231029T010000
END:STANDARD
BEGIN:DAYLIGHT
TZOFFSETFROM:+0100
TZOFFSETTO:+0200
TZNAME:CEST
DTSTART:20240331T010000
END:DAYLIGHT
BEGIN:STANDARD
TZOFFSETFROM:+0200
TZOFFSETTO:+0100
TZNAME:CET
DTSTART:20241027T010000
END:STANDARD
END:VTIMEZONE
BEGIN:VEVENT
DTSTART;TZID=Europe/Paris:20230202T180000
DTEND;TZID=Europe/Paris:20230202T200000
DTSTAMP:20260425T215604
CREATED:20210910T130452Z
LAST-MODIFIED:20220902T094823Z
UID:7666-1675360800-1675368000@www.alderan-philo.org
SUMMARY:La condition humaine N°12 - L'AUTO-OBSERVATION - instrument de découverte de soi
DESCRIPTION:Pour éclairer son existence\, cultiver la raison et l’esprit critique\, favoriser la libre pensée et la réflexion\, s’émanciper des conditionnements et de l’ignorance\, revenir à l’essentiel de la démarche philosophique\, mieux se connaître\, autrui et le monde\, pour vivre mieux et plus heureux. \n  \nParticipation en présentiel et en visioconférence via Zoom : Inscription préalable sur notre site \nParticipation « session d’automne » : adhérent 25€ – non adhérent : 50€ \nPas de cours à l’unité \nL’inscription comporte automatiquement un replay des cours\, qui vous permet de rattraper ou de revoir les cours à volonté. \nRetour au programme complet de l’introduction à la condition humaine
URL:https://www.alderan-philo.org/activite/n12-lauto-observation-instrument-de-decouverte-de-soi-3/
LOCATION:Maison de la philosophie\, 29 rue de la digue\, toulouse\, 31300\, France
CATEGORIES:Cycle 1 - Condition humaine
ATTACH;FMTTYPE=image/jpeg:https://www.alderan-philo.org/wp-content/uploads/2021/09/1302-N°12.jpg
ORGANIZER;CN="UPP - Universit%C3%A9 Populaire de Philosophie":MAILTO:philo@alderan-philo.org
END:VEVENT
BEGIN:VEVENT
DTSTART;TZID=Europe/Paris:20230209T180000
DTEND;TZID=Europe/Paris:20230209T200000
DTSTAMP:20260425T215604
CREATED:20210910T130638Z
LAST-MODIFIED:20220902T094917Z
UID:7669-1675965600-1675972800@www.alderan-philo.org
SUMMARY:La condition humaine N°13 - LA VOIE DE L’ÉVEIL - de Somnus à Vigilare
DESCRIPTION:Pour éclairer son existence\, cultiver la raison et l’esprit critique\, favoriser la libre pensée et la réflexion\, s’émanciper des conditionnements et de l’ignorance\, revenir à l’essentiel de la démarche philosophique\, mieux se connaître\, autrui et le monde\, pour vivre mieux et plus heureux. \n  \nParticipation en présentiel et en visioconférence via Zoom : Inscription préalable sur notre site \nParticipation « session d’automne » : adhérent 25€ – non adhérent : 50€ \nPas de cours à l’unité \nL’inscription comporte automatiquement un replay des cours\, qui vous permet de rattraper ou de revoir les cours à volonté. \nRetour au programme complet de l’introduction à la condition humaine
URL:https://www.alderan-philo.org/activite/n13-la-voie-de-leveil-de-somnus-a-vigilare-3/
LOCATION:Maison de la philosophie\, 29 rue de la digue\, toulouse\, 31300\, France
CATEGORIES:Cycle 1 - Condition humaine
ATTACH;FMTTYPE=image/jpeg:https://www.alderan-philo.org/wp-content/uploads/2021/09/1302-N°13.jpg
ORGANIZER;CN="UPP - Universit%C3%A9 Populaire de Philosophie":MAILTO:philo@alderan-philo.org
END:VEVENT
BEGIN:VEVENT
DTSTART;TZID=Europe/Paris:20230216T180000
DTEND;TZID=Europe/Paris:20230216T200000
DTSTAMP:20260425T215604
CREATED:20210910T130844Z
LAST-MODIFIED:20220902T095039Z
UID:7672-1676570400-1676577600@www.alderan-philo.org
SUMMARY:La condition humaine N°14 - DÉPASSEMENT DE SOI ET ÉVOLUTION
DESCRIPTION:Pour éclairer son existence\, cultiver la raison et l’esprit critique\, favoriser la libre pensée et la réflexion\, s’émanciper des conditionnements et de l’ignorance\, revenir à l’essentiel de la démarche philosophique\, mieux se connaître\, autrui et le monde\, pour vivre mieux et plus heureux. \n  \nParticipation en présentiel et en visioconférence via Zoom : Inscription préalable sur notre site \nParticipation « session d’automne » : adhérent 25€ – non adhérent : 50€ \nPas de cours à l’unité \nL’inscription comporte automatiquement un replay des cours\, qui vous permet de rattraper ou de revoir les cours à volonté. \nRetour au programme complet de l’introduction à la condition humaine
URL:https://www.alderan-philo.org/activite/n14-depassement-de-soi-et-evolution-3/
LOCATION:Maison de la philosophie\, 29 rue de la digue\, toulouse\, 31300\, France
CATEGORIES:Cycle 1 - Condition humaine
ATTACH;FMTTYPE=image/jpeg:https://www.alderan-philo.org/wp-content/uploads/2021/09/1302-N°14.jpg
ORGANIZER;CN="UPP - Universit%C3%A9 Populaire de Philosophie":MAILTO:philo@alderan-philo.org
END:VEVENT
BEGIN:VEVENT
DTSTART;TZID=Europe/Paris:20230223T180000
DTEND;TZID=Europe/Paris:20230223T200000
DTSTAMP:20260425T215604
CREATED:20210910T131021Z
LAST-MODIFIED:20220902T095125Z
UID:7675-1677175200-1677182400@www.alderan-philo.org
SUMMARY:La condition humaine N°15 - L'HOMME FACE A LA MORT
DESCRIPTION:Pour éclairer son existence\, cultiver la raison et l’esprit critique\, favoriser la libre pensée et la réflexion\, s’émanciper des conditionnements et de l’ignorance\, revenir à l’essentiel de la démarche philosophique\, mieux se connaître\, autrui et le monde\, pour vivre mieux et plus heureux. \n  \nParticipation en présentiel et en visioconférence via Zoom : Inscription préalable sur notre site \nParticipation « session d’automne » : adhérent 25€ – non adhérent : 50€ \nPas de cours à l’unité \nL’inscription comporte automatiquement un replay des cours\, qui vous permet de rattraper ou de revoir les cours à volonté. \nRetour au programme complet de l’introduction à la condition humaine
URL:https://www.alderan-philo.org/activite/n15-lhomme-face-a-la-mort-3/
LOCATION:Maison de la philosophie\, 29 rue de la digue\, toulouse\, 31300\, France
CATEGORIES:Cycle 1 - Condition humaine
ATTACH;FMTTYPE=image/jpeg:https://www.alderan-philo.org/wp-content/uploads/2021/09/1302-N°15.jpg
ORGANIZER;CN="UPP - Universit%C3%A9 Populaire de Philosophie":MAILTO:philo@alderan-philo.org
END:VEVENT
END:VCALENDAR