BEGIN:VCALENDAR
VERSION:2.0
PRODID:-//Université Populaire de Philosophie - Association ALDERAN - ECPv6.15.17//NONSGML v1.0//EN
CALSCALE:GREGORIAN
METHOD:PUBLISH
X-ORIGINAL-URL:https://www.alderan-philo.org
X-WR-CALDESC:Évènements pour Université Populaire de Philosophie - Association ALDERAN
REFRESH-INTERVAL;VALUE=DURATION:PT1H
X-Robots-Tag:noindex
X-PUBLISHED-TTL:PT1H
BEGIN:VTIMEZONE
TZID:Europe/Paris
BEGIN:DAYLIGHT
TZOFFSETFROM:+0100
TZOFFSETTO:+0200
TZNAME:CEST
DTSTART:20210328T010000
END:DAYLIGHT
BEGIN:STANDARD
TZOFFSETFROM:+0200
TZOFFSETTO:+0100
TZNAME:CET
DTSTART:20211031T010000
END:STANDARD
BEGIN:DAYLIGHT
TZOFFSETFROM:+0100
TZOFFSETTO:+0200
TZNAME:CEST
DTSTART:20220327T010000
END:DAYLIGHT
BEGIN:STANDARD
TZOFFSETFROM:+0200
TZOFFSETTO:+0100
TZNAME:CET
DTSTART:20221030T010000
END:STANDARD
BEGIN:DAYLIGHT
TZOFFSETFROM:+0100
TZOFFSETTO:+0200
TZNAME:CEST
DTSTART:20230326T010000
END:DAYLIGHT
BEGIN:STANDARD
TZOFFSETFROM:+0200
TZOFFSETTO:+0100
TZNAME:CET
DTSTART:20231029T010000
END:STANDARD
END:VTIMEZONE
BEGIN:VEVENT
DTSTART;TZID=Europe/Paris:20221201T180000
DTEND;TZID=Europe/Paris:20221201T200000
DTSTAMP:20260426T012551
CREATED:20210910T124451Z
LAST-MODIFIED:20220902T093917Z
UID:7645-1669917600-1669924800@www.alderan-philo.org
SUMMARY:La condition humaine N°5 - L'ATOMISME PSYCHIQUE - de la pluralité à l’unité de soi
DESCRIPTION:Pour éclairer son existence\, cultiver la raison et l’esprit critique\, favoriser la libre pensée et la réflexion\, s’émanciper des conditionnements et de l’ignorance\, revenir à l’essentiel de la démarche philosophique\, mieux se connaître\, autrui et le monde\, pour vivre mieux et plus heureux. \n  \nParticipation en présentiel et en visioconférence via Zoom : Inscription préalable sur notre site \nParticipation « session d’automne » : adhérent 25€ – non adhérent : 50€ \nPas de cours à l’unité \nL’inscription comporte automatiquement un replay des cours\, qui vous permet de rattraper ou de revoir les cours à volonté. \nRetour au programme complet de l’introduction à la condition humaine
URL:https://www.alderan-philo.org/activite/n5-latomisme-psychique-de-la-pluralite-a-lunite-de-soi-3/
LOCATION:Maison de la philosophie\, 29 rue de la digue\, toulouse\, 31300\, France
CATEGORIES:Cycle 1 - Condition humaine
ATTACH;FMTTYPE=image/jpeg:https://www.alderan-philo.org/wp-content/uploads/2021/09/1302-N°5.jpg
ORGANIZER;CN="UPP - Universit%C3%A9 Populaire de Philosophie":MAILTO:philo@alderan-philo.org
END:VEVENT
BEGIN:VEVENT
DTSTART;TZID=Europe/Paris:20221208T180000
DTEND;TZID=Europe/Paris:20221208T200000
DTSTAMP:20260426T012551
CREATED:20210910T125358Z
LAST-MODIFIED:20220902T094009Z
UID:7648-1670522400-1670529600@www.alderan-philo.org
SUMMARY:La condition humaine N°6 - PENSER\, RÉFLÉCHIR\, RAISONNER
DESCRIPTION:Pour éclairer son existence\, cultiver la raison et l’esprit critique\, favoriser la libre pensée et la réflexion\, s’émanciper des conditionnements et de l’ignorance\, revenir à l’essentiel de la démarche philosophique\, mieux se connaître\, autrui et le monde\, pour vivre mieux et plus heureux. \n  \nParticipation en présentiel et en visioconférence via Zoom : Inscription préalable sur notre site \nParticipation « session d’automne » : adhérent 25€ – non adhérent : 50€ \nPas de cours à l’unité \nL’inscription comporte automatiquement un replay des cours\, qui vous permet de rattraper ou de revoir les cours à volonté. \nRetour au programme complet de l’introduction à la condition humaine
URL:https://www.alderan-philo.org/activite/n6-penser-reflechir-raisonner-3/
LOCATION:Maison de la philosophie\, 29 rue de la digue\, toulouse\, 31300\, France
CATEGORIES:Cycle 1 - Condition humaine
ATTACH;FMTTYPE=image/jpeg:https://www.alderan-philo.org/wp-content/uploads/2021/09/1302-N°6.jpg
ORGANIZER;CN="UPP - Universit%C3%A9 Populaire de Philosophie":MAILTO:philo@alderan-philo.org
END:VEVENT
BEGIN:VEVENT
DTSTART;TZID=Europe/Paris:20221215T180000
DTEND;TZID=Europe/Paris:20221215T200000
DTSTAMP:20260426T012551
CREATED:20210910T125633Z
LAST-MODIFIED:20220902T094146Z
UID:7651-1671127200-1671134400@www.alderan-philo.org
SUMMARY:La condition humaine N°7 - PERSONNALITÉ ET INDIVIDUALITÉ
DESCRIPTION:Pour éclairer son existence\, cultiver la raison et l’esprit critique\, favoriser la libre pensée et la réflexion\, s’émanciper des conditionnements et de l’ignorance\, revenir à l’essentiel de la démarche philosophique\, mieux se connaître\, autrui et le monde\, pour vivre mieux et plus heureux. \n  \nParticipation en présentiel et en visioconférence via Zoom : Inscription préalable sur notre site \nParticipation « session d’automne » : adhérent 25€ – non adhérent : 50€ \nPas de cours à l’unité \nL’inscription comporte automatiquement un replay des cours\, qui vous permet de rattraper ou de revoir les cours à volonté. \nRetour au programme complet de l’introduction à la condition humaine
URL:https://www.alderan-philo.org/activite/n7-personnalite-et-individualite-3/
LOCATION:Maison de la philosophie\, 29 rue de la digue\, toulouse\, 31300\, France
CATEGORIES:Cycle 1 - Condition humaine
ATTACH;FMTTYPE=image/jpeg:https://www.alderan-philo.org/wp-content/uploads/2021/09/1302-N°7.jpg
ORGANIZER;CN="UPP - Universit%C3%A9 Populaire de Philosophie":MAILTO:philo@alderan-philo.org
END:VEVENT
END:VCALENDAR