BEGIN:VCALENDAR
VERSION:2.0
PRODID:-//Université Populaire de Philosophie - Association ALDERAN - ECPv6.15.17//NONSGML v1.0//EN
CALSCALE:GREGORIAN
METHOD:PUBLISH
X-ORIGINAL-URL:https://www.alderan-philo.org
X-WR-CALDESC:Évènements pour Université Populaire de Philosophie - Association ALDERAN
REFRESH-INTERVAL;VALUE=DURATION:PT1H
X-Robots-Tag:noindex
X-PUBLISHED-TTL:PT1H
BEGIN:VTIMEZONE
TZID:Europe/Paris
BEGIN:DAYLIGHT
TZOFFSETFROM:+0100
TZOFFSETTO:+0200
TZNAME:CEST
DTSTART:20210328T010000
END:DAYLIGHT
BEGIN:STANDARD
TZOFFSETFROM:+0200
TZOFFSETTO:+0100
TZNAME:CET
DTSTART:20211031T010000
END:STANDARD
BEGIN:DAYLIGHT
TZOFFSETFROM:+0100
TZOFFSETTO:+0200
TZNAME:CEST
DTSTART:20220327T010000
END:DAYLIGHT
BEGIN:STANDARD
TZOFFSETFROM:+0200
TZOFFSETTO:+0100
TZNAME:CET
DTSTART:20221030T010000
END:STANDARD
BEGIN:DAYLIGHT
TZOFFSETFROM:+0100
TZOFFSETTO:+0200
TZNAME:CEST
DTSTART:20230326T010000
END:DAYLIGHT
BEGIN:STANDARD
TZOFFSETFROM:+0200
TZOFFSETTO:+0100
TZNAME:CET
DTSTART:20231029T010000
END:STANDARD
END:VTIMEZONE
BEGIN:VEVENT
DTSTART;TZID=Europe/Paris:20221103T180000
DTEND;TZID=Europe/Paris:20221103T200000
DTSTAMP:20260426T031525
CREATED:20210910T131807Z
LAST-MODIFIED:20220902T092945Z
UID:7678-1667498400-1667505600@www.alderan-philo.org
SUMMARY:La condition humaine N°1 - NATURE DU MONDE ET DE L’HOMO SAPIENS
DESCRIPTION:L’axe directeur de ce cycle de cours est le “Connais-toi toi-même” socratique\, la première étape de la démarche philosophique. Il regroupe de manière structurée des enseignements philosophiques essentiels sur la nature humaine et la condition humaine. Ils sont autant d’instruments de connaissance de soi\, de réflexion\, d’épanouissement et de liberté. Un cycle philosophique pour éclairer son existence\, cultiver la raison et l’esprit critique\, favoriser la libre pensée et la réflexion\, s’émanciper des conditionnements et de l’ignorance\, revenir à l’essentiel de la démarche philosophique\, mieux se connaître\, autrui et le monde\, pour vivre mieux et plus heureux. \nParticipation au choix en présentiel ou en visioconférence via Zoom : Inscription préalable sur notre site \nParticipation au cycle complet\, pour les 15 cours : adhérent 25€ – non adhérent : 50€. Pas de cours à l’unité.  \nRetour au programme complet de l’introduction à la condition humaine
URL:https://www.alderan-philo.org/activite/n1-nature-du-monde-et-de-lhomo-sapiens-2/
LOCATION:Maison de la philosophie\, 29 rue de la digue\, toulouse\, 31300\, France
CATEGORIES:Cycle 1 - Condition humaine
ATTACH;FMTTYPE=image/jpeg:https://www.alderan-philo.org/wp-content/uploads/2021/09/1302-N°1-1.jpg
ORGANIZER;CN="UPP - Universit%C3%A9 Populaire de Philosophie":MAILTO:philo@alderan-philo.org
END:VEVENT
BEGIN:VEVENT
DTSTART;TZID=Europe/Paris:20221110T180000
DTEND;TZID=Europe/Paris:20221110T200000
DTSTAMP:20260426T031525
CREATED:20210910T123918Z
LAST-MODIFIED:20220902T093422Z
UID:7632-1668103200-1668110400@www.alderan-philo.org
SUMMARY:La condition humaine N°2 - INTRODUCTION A LA COMPLEXITÉ HUMAINE
DESCRIPTION:Pour éclairer son existence\, cultiver la raison et l’esprit critique\, favoriser la libre pensée et la réflexion\, s’émanciper des conditionnements et de l’ignorance\, revenir à l’essentiel de la démarche philosophique\, mieux se connaître\, autrui et le monde\, pour vivre mieux et plus heureux. \n  \nParticipation en présentiel et en visioconférence via Zoom : Inscription préalable sur notre site \nParticipation « session d’automne » : adhérent 25€ – non adhérent : 50€ \nPas de cours à l’unité \nL’inscription comporte automatiquement un replay des cours\, qui vous permet de rattraper ou de revoir les cours à volonté. \nRetour au programme complet de l’introduction à la condition humaine
URL:https://www.alderan-philo.org/activite/n2-introduction-a-la-complexite-humaine-3/
LOCATION:Maison de la philosophie\, 29 rue de la digue\, toulouse\, 31300\, France
CATEGORIES:Cycle 1 - Condition humaine
ATTACH;FMTTYPE=image/jpeg:https://www.alderan-philo.org/wp-content/uploads/2021/09/1302-N°2.jpg
ORGANIZER;CN="UPP - Universit%C3%A9 Populaire de Philosophie":MAILTO:philo@alderan-philo.org
END:VEVENT
BEGIN:VEVENT
DTSTART;TZID=Europe/Paris:20221117T180000
DTEND;TZID=Europe/Paris:20221117T180000
DTSTAMP:20260426T031525
CREATED:20210910T124127Z
LAST-MODIFIED:20220902T093627Z
UID:7636-1668708000-1668708000@www.alderan-philo.org
SUMMARY:La condition humaine N°3 - LA CONDITION HUMAINE - le défi d'être humain
DESCRIPTION:Pour éclairer son existence\, cultiver la raison et l’esprit critique\, favoriser la libre pensée et la réflexion\, s’émanciper des conditionnements et de l’ignorance\, revenir à l’essentiel de la démarche philosophique\, mieux se connaître\, autrui et le monde\, pour vivre mieux et plus heureux. \n  \nParticipation en présentiel et en visioconférence via Zoom : Inscription préalable sur notre site \nParticipation « session d’automne » : adhérent 25€ – non adhérent : 50€ \nPas de cours à l’unité \nL’inscription comporte automatiquement un replay des cours\, qui vous permet de rattraper ou de revoir les cours à volonté. \nRetour au programme complet de l’introduction à la condition humaine
URL:https://www.alderan-philo.org/activite/n3-la-condition-humaine-le-defi-de%cc%82tre-humain/
LOCATION:Maison de la philosophie\, 29 rue de la digue\, toulouse\, 31300\, France
CATEGORIES:Cycle 1 - Condition humaine
ATTACH;FMTTYPE=image/jpeg:https://www.alderan-philo.org/wp-content/uploads/2021/09/1302-N°3.jpg
ORGANIZER;CN="UPP - Universit%C3%A9 Populaire de Philosophie":MAILTO:philo@alderan-philo.org
END:VEVENT
BEGIN:VEVENT
DTSTART;TZID=Europe/Paris:20221124T180000
DTEND;TZID=Europe/Paris:20221124T200000
DTSTAMP:20260426T031525
CREATED:20210910T124255Z
LAST-MODIFIED:20220902T093749Z
UID:7641-1669312800-1669320000@www.alderan-philo.org
SUMMARY:La condition humaine N°4 - LA CONSCIENCE - l'essence de l’Être
DESCRIPTION:Pour éclairer son existence\, cultiver la raison et l’esprit critique\, favoriser la libre pensée et la réflexion\, s’émanciper des conditionnements et de l’ignorance\, revenir à l’essentiel de la démarche philosophique\, mieux se connaître\, autrui et le monde\, pour vivre mieux et plus heureux. \n  \nParticipation en présentiel et en visioconférence via Zoom : Inscription préalable sur notre site \nParticipation « session d’automne » : adhérent 25€ – non adhérent : 50€ \nPas de cours à l’unité \nL’inscription comporte automatiquement un replay des cours\, qui vous permet de rattraper ou de revoir les cours à volonté. \nRetour au programme complet de l’introduction à la condition humaine
URL:https://www.alderan-philo.org/activite/n4-la-conscience-lessence-de-le%cc%82tre/
LOCATION:Maison de la philosophie\, 29 rue de la digue\, toulouse\, 31300\, France
CATEGORIES:Cycle 1 - Condition humaine
ATTACH;FMTTYPE=image/jpeg:https://www.alderan-philo.org/wp-content/uploads/2021/09/1302-N°4.jpg
ORGANIZER;CN="UPP - Universit%C3%A9 Populaire de Philosophie":MAILTO:philo@alderan-philo.org
END:VEVENT
END:VCALENDAR