BEGIN:VCALENDAR
VERSION:2.0
PRODID:-//Université Populaire de Philosophie - Association ALDERAN - ECPv6.15.17//NONSGML v1.0//EN
CALSCALE:GREGORIAN
METHOD:PUBLISH
X-ORIGINAL-URL:https://www.alderan-philo.org
X-WR-CALDESC:Évènements pour Université Populaire de Philosophie - Association ALDERAN
REFRESH-INTERVAL;VALUE=DURATION:PT1H
X-Robots-Tag:noindex
X-PUBLISHED-TTL:PT1H
BEGIN:VTIMEZONE
TZID:Europe/Paris
BEGIN:DAYLIGHT
TZOFFSETFROM:+0100
TZOFFSETTO:+0200
TZNAME:CEST
DTSTART:20210328T010000
END:DAYLIGHT
BEGIN:STANDARD
TZOFFSETFROM:+0200
TZOFFSETTO:+0100
TZNAME:CET
DTSTART:20211031T010000
END:STANDARD
BEGIN:DAYLIGHT
TZOFFSETFROM:+0100
TZOFFSETTO:+0200
TZNAME:CEST
DTSTART:20220327T010000
END:DAYLIGHT
BEGIN:STANDARD
TZOFFSETFROM:+0200
TZOFFSETTO:+0100
TZNAME:CET
DTSTART:20221030T010000
END:STANDARD
BEGIN:DAYLIGHT
TZOFFSETFROM:+0100
TZOFFSETTO:+0200
TZNAME:CEST
DTSTART:20230326T010000
END:DAYLIGHT
BEGIN:STANDARD
TZOFFSETFROM:+0200
TZOFFSETTO:+0100
TZNAME:CET
DTSTART:20231029T010000
END:STANDARD
END:VTIMEZONE
BEGIN:VEVENT
DTSTART;TZID=Europe/Paris:20220303T180000
DTEND;TZID=Europe/Paris:20220303T200000
DTSTAMP:20260423T133034
CREATED:20210910T114052Z
LAST-MODIFIED:20220211T164937Z
UID:7620-1646330400-1646337600@www.alderan-philo.org
SUMMARY:N°4 - L'INTÉRÊT DE LA PHILOSOPHIE
DESCRIPTION:Avant de lire Kant\, Platon\, Derrida\, Sartre et les autres\, faites un petit retour sur les principes fondamentaux de la philosophie. Qu’est-ce que la philosophie ? La philosophie est-elle réductible aux cours de Terminale ? La philosophie sert-elle à quelque chose ? Est-elle réservée à une élite ? Est-elle quête de sens ou quête de vérité ? Est-ce une activité théorique ou a-t-elle des applications pratiques ? La philosophie est-elle seulement une manière de s’interroger ou apporte-t-elle des réponses pour vivre mieux ? Pour faire le tour de ces questions\, nous vous proposons un module d’initiation (ou de rappel) à la philosophie en 5 cours. \n  \nParticipation en présentiel  et en visioconférence via Zoom : Inscription préalable sur notre site \nParticipation « session d’hiver » : adhérent 15€ – non adhérent : 30€ \nPas de cours à l’unité \nL’inscription comporte automatiquement un replay des cours\, qui vous permet de rattraper ou de revoir les cours à volonté. \nRetour au programme complet de l’initiation à la philosophie
URL:https://www.alderan-philo.org/activite/n4-lintere%cc%82t-de-la-philosophie-2/
LOCATION:Maison de la philosophie\, 29 rue de la digue\, toulouse\, 31300\, France
CATEGORIES:Cycle 0 - Initiation
ATTACH;FMTTYPE=image/jpeg:https://www.alderan-philo.org/wp-content/uploads/2021/09/1301-Cours-N°4.jpg
ORGANIZER;CN="UPP - Universit%C3%A9 Populaire de Philosophie":MAILTO:philo@alderan-philo.org
END:VEVENT
BEGIN:VEVENT
DTSTART;TZID=Europe/Paris:20220310T180000
DTEND;TZID=Europe/Paris:20220310T200000
DTSTAMP:20260423T133034
CREATED:20210910T114255Z
LAST-MODIFIED:20220216T153341Z
UID:7622-1646935200-1646942400@www.alderan-philo.org
SUMMARY:N°5 - LA DÉMARCHE PHILOSOPHIQUE
DESCRIPTION:Avant de lire Kant\, Platon\, Derrida\, Sartre et les autres\, faites un petit retour sur les principes fondamentaux de la philosophie. Qu’est-ce que la philosophie ? La philosophie est-elle réductible aux cours de Terminale ? La philosophie sert-elle à quelque chose ? Est-elle réservée à une élite ? Est-elle quête de sens ou quête de vérité ? Est-ce une activité théorique ou a-t-elle des applications pratiques ? La philosophie est-elle seulement une manière de s’interroger ou apporte-t-elle des réponses pour vivre mieux ? Pour faire le tour de ces questions\, nous vous proposons un module d’initiation (ou de rappel) à la philosophie en 5 cours. \n  \nParticipation en présentiel  et en visioconférence via Zoom : Inscription préalable sur notre site \nParticipation « session d’hiver » : adhérent 15€ – non adhérent : 30€ \nPas de cours à l’unité \nL’inscription comporte automatiquement un replay des cours\, qui vous permet de rattraper ou de revoir les cours à volonté. \nRetour au programme complet de l’initiation à la philosophie
URL:https://www.alderan-philo.org/activite/n5-la-demarche-philosophique-3/
LOCATION:Maison de la philosophie\, 29 rue de la digue\, toulouse\, 31300\, France
CATEGORIES:Cycle 0 - Initiation
ATTACH;FMTTYPE=image/jpeg:https://www.alderan-philo.org/wp-content/uploads/2021/09/1301-Cours-N°5.jpg
ORGANIZER;CN="UPP - Universit%C3%A9 Populaire de Philosophie":MAILTO:philo@alderan-philo.org
END:VEVENT
END:VCALENDAR