BEGIN:VCALENDAR
VERSION:2.0
PRODID:-//Université Populaire de Philosophie - Association ALDERAN - ECPv6.15.17//NONSGML v1.0//EN
CALSCALE:GREGORIAN
METHOD:PUBLISH
X-WR-CALNAME:Université Populaire de Philosophie - Association ALDERAN
X-ORIGINAL-URL:https://www.alderan-philo.org
X-WR-CALDESC:Évènements pour Université Populaire de Philosophie - Association ALDERAN
REFRESH-INTERVAL;VALUE=DURATION:PT1H
X-Robots-Tag:noindex
X-PUBLISHED-TTL:PT1H
BEGIN:VTIMEZONE
TZID:Europe/Paris
BEGIN:DAYLIGHT
TZOFFSETFROM:+0100
TZOFFSETTO:+0200
TZNAME:CEST
DTSTART:20220327T010000
END:DAYLIGHT
BEGIN:STANDARD
TZOFFSETFROM:+0200
TZOFFSETTO:+0100
TZNAME:CET
DTSTART:20221030T010000
END:STANDARD
BEGIN:DAYLIGHT
TZOFFSETFROM:+0100
TZOFFSETTO:+0200
TZNAME:CEST
DTSTART:20230326T010000
END:DAYLIGHT
BEGIN:STANDARD
TZOFFSETFROM:+0200
TZOFFSETTO:+0100
TZNAME:CET
DTSTART:20231029T010000
END:STANDARD
BEGIN:DAYLIGHT
TZOFFSETFROM:+0100
TZOFFSETTO:+0200
TZNAME:CEST
DTSTART:20240331T010000
END:DAYLIGHT
BEGIN:STANDARD
TZOFFSETFROM:+0200
TZOFFSETTO:+0100
TZNAME:CET
DTSTART:20241027T010000
END:STANDARD
END:VTIMEZONE
BEGIN:VEVENT
DTSTART;TZID=Europe/Paris:20231218T180000
DTEND;TZID=Europe/Paris:20231218T200000
DTSTAMP:20260422T145456
CREATED:20230607T154300Z
LAST-MODIFIED:20230905T130236Z
UID:12020-1702922400-1702929600@www.alderan-philo.org
SUMMARY:LE BONHEUR
DESCRIPTION:Qu’est-ce que le bonheur ? Quelle différence avec le plaisir et le bien-être ? \nConférence à la salle du Sénéchal à Toulouse de 18H à 20H.  \nUne conférence de la série « LES MOTS DE LA PENSÉE » : Pour bien comprendre le monde qui nous entoure et la vie\, il nous faut réfléchir et penser. Mais les concepts que nous utilisons sont-ils toujours les bons ? Comprenons-nous toujours le sens des mots que nous employons ? Connaissons-nous d’ailleurs toujours le nom qui décrit la chose ? Les concepts sont les outils de la pensée\, plus ils sont adéquats\, plus nous pourrons penser correctement. Un retour sur les fondamentaux de la pensée s’impose. Ces conférences thématiques\, d’une durée d’une heure\, sont destinées à revenir au sens précis des grands concepts de la pensée. Un retour sur les fondamentaux de la philosophie. \nParticipation en présentiel – Adhérent : gratuit – Non-adhérent : 5€ – Règlement sur place\, sans réservation \n\nConférence disponible en replay vidéo dans le PASS PHILO pour les adhérents. \nRetour au programme complet des MOTS DE LA PHILOSOPHIE.
URL:https://www.alderan-philo.org/activite/le-bonheur/
LOCATION:Salle du Sénéchal\, 17 rue du sénéchal\, Toulouse\, 31000\, France
CATEGORIES:Conférences « Mots de la philosophie »
ATTACH;FMTTYPE=image/jpeg:https://www.alderan-philo.org/wp-content/uploads/2023/06/3-Le-bonheur-pierre-auguste_renoir_-_luncheon_of_the_boating_party.jpg
ORGANIZER;CN="UPP - Universit%C3%A9 Populaire de Philosophie":MAILTO:philo@alderan-philo.org
END:VEVENT
END:VCALENDAR