BEGIN:VCALENDAR
VERSION:2.0
PRODID:-//Université Populaire de Philosophie - Association ALDERAN - ECPv6.15.17//NONSGML v1.0//EN
CALSCALE:GREGORIAN
METHOD:PUBLISH
X-ORIGINAL-URL:https://www.alderan-philo.org
X-WR-CALDESC:Évènements pour Université Populaire de Philosophie - Association ALDERAN
REFRESH-INTERVAL;VALUE=DURATION:PT1H
X-Robots-Tag:noindex
X-PUBLISHED-TTL:PT1H
BEGIN:VTIMEZONE
TZID:Europe/Paris
BEGIN:DAYLIGHT
TZOFFSETFROM:+0100
TZOFFSETTO:+0200
TZNAME:CEST
DTSTART:20210328T010000
END:DAYLIGHT
BEGIN:STANDARD
TZOFFSETFROM:+0200
TZOFFSETTO:+0100
TZNAME:CET
DTSTART:20211031T010000
END:STANDARD
BEGIN:DAYLIGHT
TZOFFSETFROM:+0100
TZOFFSETTO:+0200
TZNAME:CEST
DTSTART:20220327T010000
END:DAYLIGHT
BEGIN:STANDARD
TZOFFSETFROM:+0200
TZOFFSETTO:+0100
TZNAME:CET
DTSTART:20221030T010000
END:STANDARD
BEGIN:DAYLIGHT
TZOFFSETFROM:+0100
TZOFFSETTO:+0200
TZNAME:CEST
DTSTART:20230326T010000
END:DAYLIGHT
BEGIN:STANDARD
TZOFFSETFROM:+0200
TZOFFSETTO:+0100
TZNAME:CET
DTSTART:20231029T010000
END:STANDARD
END:VTIMEZONE
BEGIN:VEVENT
DTSTART;TZID=Europe/Paris:20221212T183000
DTEND;TZID=Europe/Paris:20221212T203000
DTSTAMP:20260423T131032
CREATED:20220712T131819Z
LAST-MODIFIED:20220720T131027Z
UID:9988-1670869800-1670877000@www.alderan-philo.org
SUMMARY:LA  MÉTAPHYSIQUE
DESCRIPTION:Qu’est-ce que la métaphysique ? Est-elle autre chose qu’un discours vide de sens ? \nConférence à la salle du Sénéchal à Toulouse de 18H30 à 20H.  \nUne conférence de la série « LES MOTS DE LA PENSÉE » : Pour bien comprendre le monde qui nous entoure et la vie\, il nous faut réfléchir et penser. Mais les concepts que nous utilisons sont-ils toujours les bons ? Comprenons-nous toujours le sens des mots que nous employons ? Connaissons-nous d’ailleurs toujours le nom qui décrit la chose ? Les concepts sont les outils de la pensée\, plus ils sont adéquats\, plus nous pourrons penser correctement. Un retour sur les fondamentaux de la pensée s’impose. Ces conférences thématiques\, d’une durée d’une heure\, sont destinées à revenir au sens précis des grands concepts de la pensée. Un retour sur les fondamentaux de la philosophie. \nParticipation en présentiel – Adhérent : gratuit – Non-adhérent : 5€ – Règlement sur place\, sans réservation \n\nConférence disponible en replay vidéo dans le PASS PHILO pour les adhérents. \nRetour au programme complet des MOTS DE LA PHILOSOPHIE.
URL:https://www.alderan-philo.org/activite/la-metaphysique/
LOCATION:Salle du Sénéchal\, 17 rue du sénéchal\, Toulouse\, 31000\, France
CATEGORIES:Conférences « Mots de la philosophie »
ATTACH;FMTTYPE=image/jpeg:https://www.alderan-philo.org/wp-content/uploads/2022/07/N°3-12-12-22-La-métaphysique.jpg
ORGANIZER;CN="UPP - Universit%C3%A9 Populaire de Philosophie":MAILTO:philo@alderan-philo.org
END:VEVENT
END:VCALENDAR