BEGIN:VCALENDAR
VERSION:2.0
PRODID:-//Université Populaire de Philosophie - Association ALDERAN - ECPv6.15.17//NONSGML v1.0//EN
CALSCALE:GREGORIAN
METHOD:PUBLISH
X-ORIGINAL-URL:https://www.alderan-philo.org
X-WR-CALDESC:Évènements pour Université Populaire de Philosophie - Association ALDERAN
REFRESH-INTERVAL;VALUE=DURATION:PT1H
X-Robots-Tag:noindex
X-PUBLISHED-TTL:PT1H
BEGIN:VTIMEZONE
TZID:Europe/Paris
BEGIN:DAYLIGHT
TZOFFSETFROM:+0100
TZOFFSETTO:+0200
TZNAME:CEST
DTSTART:20200329T010000
END:DAYLIGHT
BEGIN:STANDARD
TZOFFSETFROM:+0200
TZOFFSETTO:+0100
TZNAME:CET
DTSTART:20201025T010000
END:STANDARD
BEGIN:DAYLIGHT
TZOFFSETFROM:+0100
TZOFFSETTO:+0200
TZNAME:CEST
DTSTART:20210328T010000
END:DAYLIGHT
BEGIN:STANDARD
TZOFFSETFROM:+0200
TZOFFSETTO:+0100
TZNAME:CET
DTSTART:20211031T010000
END:STANDARD
BEGIN:DAYLIGHT
TZOFFSETFROM:+0100
TZOFFSETTO:+0200
TZNAME:CEST
DTSTART:20220327T010000
END:DAYLIGHT
BEGIN:STANDARD
TZOFFSETFROM:+0200
TZOFFSETTO:+0100
TZNAME:CET
DTSTART:20221030T010000
END:STANDARD
END:VTIMEZONE
BEGIN:VEVENT
DTSTART;TZID=Europe/Paris:20210614T180000
DTEND;TZID=Europe/Paris:20210614T200000
DTSTAMP:20260424T205817
CREATED:20200730T145645Z
LAST-MODIFIED:20210709T113206Z
UID:1027-1623693600-1623700800@www.alderan-philo.org
SUMMARY:LE POLITIQUE ET LA POLITIQUE
DESCRIPTION:Conférence par Eric Lowen \nQuelle différence entre LE politique et LA polique ? LE politique peut-il exister sans LA politique ? LE politique impose-t-il LA politique ? \n  \nEn raison de la situation COVID-19\, conférence en visioconférence uniquement. Deux solutions pour y participer : \nParticipation pour les non adhérents (5€) : vous recevrez un lieu de connexion Zoom après l’achat du billet. \nGratuit pour les adhérents  : visioconférence en direct et en replay sur la page Facebook du PASS PHILO. \nRetour aux Mots de la Philosophie \n  \n 
URL:https://www.alderan-philo.org/activite/le-politique-et-la-politique/
LOCATION:Salle du Sénéchal\, 17 rue du sénéchal\, Toulouse\, 31000\, France
CATEGORIES:Conférences « Mots de la philosophie »
ATTACH;FMTTYPE=image/jpeg:https://www.alderan-philo.org/wp-content/uploads/2020/07/mdlp8-politique.jpg
ORGANIZER;CN="UPP - Universit%C3%A9 Populaire de Philosophie":MAILTO:philo@alderan-philo.org
END:VEVENT
END:VCALENDAR