BEGIN:VCALENDAR
VERSION:2.0
PRODID:-//Université Populaire de Philosophie - Association ALDERAN - ECPv6.15.17//NONSGML v1.0//EN
CALSCALE:GREGORIAN
METHOD:PUBLISH
X-ORIGINAL-URL:https://www.alderan-philo.org
X-WR-CALDESC:Évènements pour Université Populaire de Philosophie - Association ALDERAN
REFRESH-INTERVAL;VALUE=DURATION:PT1H
X-Robots-Tag:noindex
X-PUBLISHED-TTL:PT1H
BEGIN:VTIMEZONE
TZID:Europe/Paris
BEGIN:DAYLIGHT
TZOFFSETFROM:+0100
TZOFFSETTO:+0200
TZNAME:CEST
DTSTART:20200329T010000
END:DAYLIGHT
BEGIN:STANDARD
TZOFFSETFROM:+0200
TZOFFSETTO:+0100
TZNAME:CET
DTSTART:20201025T010000
END:STANDARD
BEGIN:DAYLIGHT
TZOFFSETFROM:+0100
TZOFFSETTO:+0200
TZNAME:CEST
DTSTART:20210328T010000
END:DAYLIGHT
BEGIN:STANDARD
TZOFFSETFROM:+0200
TZOFFSETTO:+0100
TZNAME:CET
DTSTART:20211031T010000
END:STANDARD
BEGIN:DAYLIGHT
TZOFFSETFROM:+0100
TZOFFSETTO:+0200
TZNAME:CEST
DTSTART:20220327T010000
END:DAYLIGHT
BEGIN:STANDARD
TZOFFSETFROM:+0200
TZOFFSETTO:+0100
TZNAME:CET
DTSTART:20221030T010000
END:STANDARD
END:VTIMEZONE
BEGIN:VEVENT
DTSTART;TZID=Europe/Paris:20210510T180000
DTEND;TZID=Europe/Paris:20210510T200000
DTSTAMP:20260424T223834
CREATED:20200730T145417Z
LAST-MODIFIED:20210709T115910Z
UID:1023-1620669600-1620676800@www.alderan-philo.org
SUMMARY:LA CROYANCE
DESCRIPTION:Conférence par Eric Lowen \nQu’est-ce que la croyance ? Toute idée est-elle une croyance ? Pourquoi la croyance est-elle aussi facile en nous ? \n  \nEn raison de la situation COVID-19\, conférence en visioconférence uniquement. Deux solutions pour y participer : \nParticipation pour les non adhérents (5€) : vous recevrez un lieu de connexion Zoom après l’achat du billet. \nGratuit pour les adhérents  : visioconférence en direct et en replay sur la page Facebook du PASS PHILO. \nRetour aux Mots de la Philosophie \n  \n 
URL:https://www.alderan-philo.org/activite/la-croyance/
LOCATION:Salle du Sénéchal\, 17 rue du sénéchal\, Toulouse\, 31000\, France
CATEGORIES:Conférences « Mots de la philosophie »
ATTACH;FMTTYPE=image/jpeg:https://www.alderan-philo.org/wp-content/uploads/2020/07/mdlp7-croyance.jpg
ORGANIZER;CN="UPP - Universit%C3%A9 Populaire de Philosophie":MAILTO:philo@alderan-philo.org
END:VEVENT
END:VCALENDAR