BEGIN:VCALENDAR
VERSION:2.0
PRODID:-//Université Populaire de Philosophie - Association ALDERAN - ECPv6.15.17//NONSGML v1.0//EN
CALSCALE:GREGORIAN
METHOD:PUBLISH
X-ORIGINAL-URL:https://www.alderan-philo.org
X-WR-CALDESC:Évènements pour Université Populaire de Philosophie - Association ALDERAN
REFRESH-INTERVAL;VALUE=DURATION:PT1H
X-Robots-Tag:noindex
X-PUBLISHED-TTL:PT1H
BEGIN:VTIMEZONE
TZID:Europe/Paris
BEGIN:DAYLIGHT
TZOFFSETFROM:+0100
TZOFFSETTO:+0200
TZNAME:CEST
DTSTART:20200329T010000
END:DAYLIGHT
BEGIN:STANDARD
TZOFFSETFROM:+0200
TZOFFSETTO:+0100
TZNAME:CET
DTSTART:20201025T010000
END:STANDARD
BEGIN:DAYLIGHT
TZOFFSETFROM:+0100
TZOFFSETTO:+0200
TZNAME:CEST
DTSTART:20210328T010000
END:DAYLIGHT
BEGIN:STANDARD
TZOFFSETFROM:+0200
TZOFFSETTO:+0100
TZNAME:CET
DTSTART:20211031T010000
END:STANDARD
BEGIN:DAYLIGHT
TZOFFSETFROM:+0100
TZOFFSETTO:+0200
TZNAME:CEST
DTSTART:20220327T010000
END:DAYLIGHT
BEGIN:STANDARD
TZOFFSETFROM:+0200
TZOFFSETTO:+0100
TZNAME:CET
DTSTART:20221030T010000
END:STANDARD
END:VTIMEZONE
BEGIN:VEVENT
DTSTART;TZID=Europe/Paris:20210125T180000
DTEND;TZID=Europe/Paris:20210125T200000
DTSTAMP:20260425T053800
CREATED:20200730T143855Z
LAST-MODIFIED:20210709T115753Z
UID:1002-1611597600-1611604800@www.alderan-philo.org
SUMMARY:RAISON ET RATIONALISME
DESCRIPTION:Conférence par Eric Lowen \nQu’est-ce que la Raison ? Quelle différence avec le Rationalisme ? Toute utilisation de la raison fait-elle rationalisme pour autant \n  \n  \n  \nParticipation – Adhérent : gratuit – Non-adhérent : 5€ – Réglement sur place\, sans réservation \nMesures de protection sanitaire : gel hydro alcoolique en rentrant + port du masque. \nRetour aux Mots de la Philosophie \n  \n 
URL:https://www.alderan-philo.org/activite/raison-et-rationalisme/
LOCATION:Salle du Sénéchal\, 17 rue du sénéchal\, Toulouse\, 31000\, France
CATEGORIES:Conférences « Mots de la philosophie »
ATTACH;FMTTYPE=image/jpeg:https://www.alderan-philo.org/wp-content/uploads/2020/07/mdlp3-raison.jpg
ORGANIZER;CN="UPP - Universit%C3%A9 Populaire de Philosophie":MAILTO:philo@alderan-philo.org
END:VEVENT
END:VCALENDAR