BEGIN:VCALENDAR
VERSION:2.0
PRODID:-//Université Populaire de Philosophie - Association ALDERAN - ECPv6.15.17//NONSGML v1.0//EN
CALSCALE:GREGORIAN
METHOD:PUBLISH
X-WR-CALNAME:Université Populaire de Philosophie - Association ALDERAN
X-ORIGINAL-URL:https://www.alderan-philo.org
X-WR-CALDESC:Évènements pour Université Populaire de Philosophie - Association ALDERAN
REFRESH-INTERVAL;VALUE=DURATION:PT1H
X-Robots-Tag:noindex
X-PUBLISHED-TTL:PT1H
BEGIN:VTIMEZONE
TZID:Europe/Paris
BEGIN:DAYLIGHT
TZOFFSETFROM:+0100
TZOFFSETTO:+0200
TZNAME:CEST
DTSTART:20220327T010000
END:DAYLIGHT
BEGIN:STANDARD
TZOFFSETFROM:+0200
TZOFFSETTO:+0100
TZNAME:CET
DTSTART:20221030T010000
END:STANDARD
BEGIN:DAYLIGHT
TZOFFSETFROM:+0100
TZOFFSETTO:+0200
TZNAME:CEST
DTSTART:20230326T010000
END:DAYLIGHT
BEGIN:STANDARD
TZOFFSETFROM:+0200
TZOFFSETTO:+0100
TZNAME:CET
DTSTART:20231029T010000
END:STANDARD
BEGIN:DAYLIGHT
TZOFFSETFROM:+0100
TZOFFSETTO:+0200
TZNAME:CEST
DTSTART:20240331T010000
END:DAYLIGHT
BEGIN:STANDARD
TZOFFSETFROM:+0200
TZOFFSETTO:+0100
TZNAME:CET
DTSTART:20241027T010000
END:STANDARD
END:VTIMEZONE
BEGIN:VEVENT
DTSTART;TZID=Europe/Paris:20230624T100000
DTEND;TZID=Europe/Paris:20230624T190000
DTSTAMP:20260423T121051
CREATED:20230419T133451Z
LAST-MODIFIED:20230607T151221Z
UID:11641-1687600800-1687633200@www.alderan-philo.org
SUMMARY:GRANDE BOUQUINERIE PHILO
DESCRIPTION:SAMEDI 24 ET DIMANCHE 25 JUIN 2023\, DE 10H À 19H\n\nA la Maison de la philosophie à Toulouse\, 29 rue de la digue\n\nUn large choix de livres d’occasion à petit prix en littérature\, philosophie\, histoire\, sociologie\, économie\, sciences humaines… près de 9000 livres mis en vente !\n\n\n\n\n\nLa vente de ces livres sert à l’équipement et au développement de notre Bibliothèque “DIDEROT” consacrée à la philosophie (un livre vendu en bouquinerie\, c’est un livre entrant pour la bibliothèque en moyenne). \nPremier prix à partir de 1 €. \n  \nPrésentation détaillée de la Bouquinerie
URL:https://www.alderan-philo.org/activite/grande-bouquinerie-philo-3/
LOCATION:Maison de la philosophie\, 29 rue de la digue\, toulouse\, 31300\, France
CATEGORIES:Bouquinerie philo,Café philo Estival,programme estival
ORGANIZER;CN="UPP - Universit%C3%A9 Populaire de Philosophie":MAILTO:philo@alderan-philo.org
END:VEVENT
END:VCALENDAR