BEGIN:VCALENDAR
VERSION:2.0
PRODID:-//Université Populaire de Philosophie - Association ALDERAN - ECPv6.15.17//NONSGML v1.0//EN
CALSCALE:GREGORIAN
METHOD:PUBLISH
X-WR-CALNAME:Université Populaire de Philosophie - Association ALDERAN
X-ORIGINAL-URL:https://www.alderan-philo.org
X-WR-CALDESC:Évènements pour Université Populaire de Philosophie - Association ALDERAN
REFRESH-INTERVAL;VALUE=DURATION:PT1H
X-Robots-Tag:noindex
X-PUBLISHED-TTL:PT1H
BEGIN:VTIMEZONE
TZID:Europe/Paris
BEGIN:DAYLIGHT
TZOFFSETFROM:+0100
TZOFFSETTO:+0200
TZNAME:CEST
DTSTART:20200329T010000
END:DAYLIGHT
BEGIN:STANDARD
TZOFFSETFROM:+0200
TZOFFSETTO:+0100
TZNAME:CET
DTSTART:20201025T010000
END:STANDARD
BEGIN:DAYLIGHT
TZOFFSETFROM:+0100
TZOFFSETTO:+0200
TZNAME:CEST
DTSTART:20210328T010000
END:DAYLIGHT
BEGIN:STANDARD
TZOFFSETFROM:+0200
TZOFFSETTO:+0100
TZNAME:CET
DTSTART:20211031T010000
END:STANDARD
BEGIN:DAYLIGHT
TZOFFSETFROM:+0100
TZOFFSETTO:+0200
TZNAME:CEST
DTSTART:20220327T010000
END:DAYLIGHT
BEGIN:STANDARD
TZOFFSETFROM:+0200
TZOFFSETTO:+0100
TZNAME:CET
DTSTART:20221030T010000
END:STANDARD
END:VTIMEZONE
BEGIN:VEVENT
DTSTART;VALUE=DATE:20210626
DTEND;VALUE=DATE:20210704
DTSTAMP:20260425T043631
CREATED:20200823T234835Z
LAST-MODIFIED:20210628T171937Z
UID:2124-1624665600-1625356799@www.alderan-philo.org
SUMMARY:BOUQUINERIE PHILO 2021 - Prolongation jusqu'au 03/07.
DESCRIPTION:PROLONGATION EXCEPTIONNELLE JUSQU’AU 3 JUILLET\, de 10H à 18H\nUne grande bouquinerie consacrée à la philo et aux sciences humaines. Un large choix de livres d’occasion à petit prix en littérature\, philosophie\, histoire\, sociologie\, économie\, sciences humaines… \nPremier prix à partir de 1 €.\nNous avons le plaisir de vous annoncer qu’avec le déconfinement\, notre bouquinerie philo annuelle est de retour. Elle se tiendra cette année sur deux jours le samedi 26 et dimanche 27 juin. \nNotez-le bien dans vos tablettes\, c’est une fois par an seulement !!\nPrésentation détaillée de la Bouquinerie \n 
URL:https://www.alderan-philo.org/activite/bouquinerie-philo-2021/
LOCATION:Maison de la philosophie\, 29 rue de la digue\, toulouse\, 31300\, France
CATEGORIES:Bouquinerie philo
ORGANIZER;CN="UPP - Universit%C3%A9 Populaire de Philosophie":MAILTO:philo@alderan-philo.org
END:VEVENT
END:VCALENDAR