BEGIN:VCALENDAR
VERSION:2.0
PRODID:-//Université Populaire de Philosophie - Association ALDERAN - ECPv6.15.17//NONSGML v1.0//EN
CALSCALE:GREGORIAN
METHOD:PUBLISH
X-WR-CALNAME:Université Populaire de Philosophie - Association ALDERAN
X-ORIGINAL-URL:https://www.alderan-philo.org
X-WR-CALDESC:Évènements pour Université Populaire de Philosophie - Association ALDERAN
REFRESH-INTERVAL;VALUE=DURATION:PT1H
X-Robots-Tag:noindex
X-PUBLISHED-TTL:PT1H
BEGIN:VTIMEZONE
TZID:Europe/Paris
BEGIN:DAYLIGHT
TZOFFSETFROM:+0100
TZOFFSETTO:+0200
TZNAME:CEST
DTSTART:20250330T010000
END:DAYLIGHT
BEGIN:STANDARD
TZOFFSETFROM:+0200
TZOFFSETTO:+0100
TZNAME:CET
DTSTART:20251026T010000
END:STANDARD
BEGIN:DAYLIGHT
TZOFFSETFROM:+0100
TZOFFSETTO:+0200
TZNAME:CEST
DTSTART:20260329T010000
END:DAYLIGHT
BEGIN:STANDARD
TZOFFSETFROM:+0200
TZOFFSETTO:+0100
TZNAME:CET
DTSTART:20261025T010000
END:STANDARD
BEGIN:DAYLIGHT
TZOFFSETFROM:+0100
TZOFFSETTO:+0200
TZNAME:CEST
DTSTART:20270328T010000
END:DAYLIGHT
BEGIN:STANDARD
TZOFFSETFROM:+0200
TZOFFSETTO:+0100
TZNAME:CET
DTSTART:20271031T010000
END:STANDARD
END:VTIMEZONE
BEGIN:VEVENT
DTSTART;TZID=Europe/Paris:20260425T140000
DTEND;TZID=Europe/Paris:20260425T163000
DTSTAMP:20260425T022532
CREATED:20250722T114636Z
LAST-MODIFIED:20250923T132701Z
UID:18504-1777125600-1777134600@www.alderan-philo.org
SUMMARY:L'IRRELIGIOSITÉ DES RELIGIONS - Les religions sont-elles vraiment religieuses ?
DESCRIPTION:Conférence N°16/20 des Samedis philosophiques\, le samedi de 14H à 16H30\, par Eric Lowen. Thème 25/26 : LA RELIGION\, DE L’ILLUSION À l’ALIÉNATION \nLes religions affirment qu’elles reposent sur le « religare »\, qu’elles sont reliantes\, qu’elles relient les dieux et les humains. Mais est-ce vraiment le cas ? Les religions sont-elles vraiment « religieuses » ou bien est-ce un argument de propagande\, destiné à donner une image positive des religions ? Qu’en est-il objectivement ? On peut en douter au regard de l’intolérance\, des pratiques sectaires et des violences religieuses qui accompagnent structurellement les religions. Contrairement à ce qu’elles disent sur elles-mêmes\, les religions ne reposent pas sur le « religare » mais sur le « credere ». Et si les religions\, loin d’être “reliantes”\, étaient au contraire opposantes ? Et si les religions n’étaient pas religieuses ? \nTarif : Adhérent : gratuit – Non-adhérent : 5€ \nConférence à la fois en présentiel\, en visioconférence et replay. Participation en présentiel : Facilitez-vous la vie\, réservez vos places en ligne \nInscription en ligne\, pour la conférence à l’unité ou pour le cycle complet (inclus le replay de toutes les conférences) \nRetour au programme complet des Samedis philosophiques 2025-2026 \n\n1 – samedi 4 octobre 2025 : L’INFONDATION DES RELIGIONS\n2 – samedi 18 octobre : L’ORIGINE DE LA RELIGION\n3 – samedi 1er novembre : L’INVENTION DES DIEUX\, CRÉATIONS HUMAINES\n4 – samedi 15 novembre : LA RELIGION EST-ELLE UN BESOIN ? \n5 – samedi 6 décembre : L’IDÉE DE DIEU PEUT-ELLE EXISTER SANS LA RELIGION ?\n6 – samedi 13 décembre : LE MYTHE DE LA PREUVE DE DIEU\n7 – samedi 10 janvier 2026 : DIEU N’EXPLIQUE RIEN – DIEU COMME EFFET PARAVENT\n8 – samedi 24 janvier : POURQUOI LA RELIGION AUJOURD’HUI ?\n9 – samedi 7 février : CROYANCE ET FOI\, OU DE L’AVEUGLEMENT VOLONTAIRE\n10 – samedi 14 février : LE DÉFI DE MONAGHAN\n11 – samedi 21 février : LE PARADOXE DE CLARKE\n12 – samedi 7 mars  : L’IMPOSTURE DES RELIGIONS\n13 – samedi 14 mars  : LES RELIGIONS SONT-ELLES ENNEMIES DE LA VÉRITÉ ? \n14 – samedi 21 mars : L’AMORALITÉ DES RELIGIONS\n15 – samedi 11 avril : DIEU\, LE SALAUD UNIVERSEL\n16 – samedi 25 avril : L’IRRELIGIOSITÉ DES RELIGIONS\n17 – samedi 23 mai : LA SPIRITUALITÉ\, LA GRANDE ILLUSION\n18 – samedi 30 mai : L’INDIGNITÉ DES RELIGIONS\n19 – samedi 6 juin : LES RELIGIONS SONT-ELLES DES SECTES QUI ONT RÉUSSI ? \n20 – samedi 13 juin : LA NUISIBILITÉ DES RELIGIONS
URL:https://www.alderan-philo.org/activite/lirreligiosite-des-religions-les-religions-sont-elles-vraiment-religieuses/
LOCATION:Maison de la philosophie\, 29 rue de la digue\, toulouse\, 31300\, France
CATEGORIES:Conférences « Athéisme »,Conférences « Samedis philo »
ATTACH;FMTTYPE=image/jpeg:https://www.alderan-philo.org/wp-content/uploads/2025/07/2026-04-25-Lirreligiosite-des-religions-1.jpg
ORGANIZER;CN="UPP - Universit%C3%A9 Populaire de Philosophie":MAILTO:philo@alderan-philo.org
END:VEVENT
END:VCALENDAR