BEGIN:VCALENDAR
VERSION:2.0
PRODID:-//Université Populaire de Philosophie - Association ALDERAN - ECPv6.15.17//NONSGML v1.0//EN
CALSCALE:GREGORIAN
METHOD:PUBLISH
X-WR-CALNAME:Université Populaire de Philosophie - Association ALDERAN
X-ORIGINAL-URL:https://www.alderan-philo.org
X-WR-CALDESC:Évènements pour Université Populaire de Philosophie - Association ALDERAN
REFRESH-INTERVAL;VALUE=DURATION:PT1H
X-Robots-Tag:noindex
X-PUBLISHED-TTL:PT1H
BEGIN:VTIMEZONE
TZID:Europe/Paris
BEGIN:DAYLIGHT
TZOFFSETFROM:+0100
TZOFFSETTO:+0200
TZNAME:CEST
DTSTART:20250330T010000
END:DAYLIGHT
BEGIN:STANDARD
TZOFFSETFROM:+0200
TZOFFSETTO:+0100
TZNAME:CET
DTSTART:20251026T010000
END:STANDARD
BEGIN:DAYLIGHT
TZOFFSETFROM:+0100
TZOFFSETTO:+0200
TZNAME:CEST
DTSTART:20260329T010000
END:DAYLIGHT
BEGIN:STANDARD
TZOFFSETFROM:+0200
TZOFFSETTO:+0100
TZNAME:CET
DTSTART:20261025T010000
END:STANDARD
BEGIN:DAYLIGHT
TZOFFSETFROM:+0100
TZOFFSETTO:+0200
TZNAME:CEST
DTSTART:20270328T010000
END:DAYLIGHT
BEGIN:STANDARD
TZOFFSETFROM:+0200
TZOFFSETTO:+0100
TZNAME:CET
DTSTART:20271031T010000
END:STANDARD
END:VTIMEZONE
BEGIN:VEVENT
DTSTART;TZID=Europe/Paris:20260424T203000
DTEND;TZID=Europe/Paris:20260424T223000
DTSTAMP:20260424T014518
CREATED:20250723T124821Z
LAST-MODIFIED:20250723T124821Z
UID:18641-1777062600-1777069800@www.alderan-philo.org
SUMMARY:N’Y A-T-IL QUE 8 PLANÈTES DANS LE SYSTÈME SOLAIRE ?
DESCRIPTION:FORUM DES SCIENCES 2025/2026 : série de conférences d’octobre à juin sur les sciences. Tous les vendredis soirs à 20H30 à la Maison de la philosophie. Conférence N°28/32 \nOn apprend qu’il y a 8 planètes dans le système solaire : 4 semblables en taille à la Terre et 4 autres nettement plus grosses. Pourtant\, il y a une vingtaine d’années\, une neuvième planète complétait ce portrait de famille. Pourquoi n’est-elle plus considérée comme une planète ? Par ailleurs\, les astronomes ont des raisons de penser qu’une planète plus grosse que la Terre se cacherait dans les confins du système solaire. Alors\, 8 ou 9 planètes ? Plus que ça ? Ces questions seront l’occasion de présenter comment se sont formées les planètes dans le système solaire\, comment elles ont évolué\, et comment elles se distinguent des exoplanètes. \n  \n\n\n\n\n\nParticipation en présentiel : Adhérent\, gratuit ; Non-adhérent\, 5€ – Règlement sur place\, sans réservation. \nConférence en replay dans le PASS PHILO pour les adhérents. En prenant l’adhésion\, vous bénéficiez de l’intégralité des replays des conférences\, de tarifs réduits toute l’année et d’activités réservées. \nRetour au programme complet du Forum des Sciences 2025-2026 \n\n\nVENDREDI 3 OCTOBRE : QUELQUES ÉLÉMENTS DE THÉORIE DES JEUX\, par Jérôme Renault\nVENDREDI 10 OCTOBRE : MATHÉMAGIQUE\, tours de magie… et de mathématiques\, par Clément Sire\nVENDREDI 17 OCTOBRE : EXOBIOLOGIE ET MISSIONS SPATIALES\, par André Debus\nVENDREDI 24 OCTOBRE : LES TROUBLES DU COMPORTEMENT ALIMENTAIRE\, par le Dr Uzan\nVENDREDI 31 OCTOBRE : PEUT-ON CONCILIER AGRICULTURE ET ÉCOLOGIE ? par Clélia Sirami\nVENDREDI 7 NOVEMBRE : BIOTECHNOLOGIES ANCIENNES\, NOUVELLES TENSIONS ÉTHIQUES\, par Anne-Sophie Giraud\nVENDREDI 14 NOVEMBRE : L’EXPLORATION DES LUNES OCÉANS DE JUPITER\, par Nicolas André\nVENDREDI 21 NOVEMBRE : COMMENT RETROUVER LE VRAI GOÛT DES TOMATES ? par Julien Pirrello\nVENDREDI 28 NOVEMBRE : LES MARIAGES PROTESTANTS AU XVIIIE SIÈCLE\, par Jack Thomas\nVENDREDI 5 DECEMBRE : FIGURES DE RÉSISTANTS ESPAGNOLS À TOULOUSE EN 1942-1944\, par Henri Farreny\nVENDREDI 12 DÉCEMBRE : QUAND LA MÉDITERRANÉE ÉTAIT… À SEC\, par Agnès Maillard-Lenoir\nVENDREDI 19 DÉCEMBRE : EUCLID\, PLONGÉE DANS L’UNIVERS SOMBRE\, par Pierre Casanova\nVENDREDI 9 JANVIER : SOMMES NOUS DÉTERMINÉS PAR NOS GÈNES ? par Bettina Couderc\nVENDREDI 16 JANVIER : LES NANOPARTICULES\, par Lise-Marie Lacroix\nVENDREDI 23 JANVIER : LA PLANÈTE DES INSECTES\, par Mathieu Lihoreau\nVENDREDI 30 JANVIER : LA BATAILLE DE TOULOUSE (721)\,  par Floran Gallon\nVENDREDI 6 FÉVRIER : DES OS ET DES HOMMES – Enquête sur l’alimentation carnée au Paléolithique\, par Sandrine Costamagno\nVENDREDI 13 FÉVRIER : EXPLORER IO\, LUNE DE JUPITER\, par Michel Blanc\nVENDREDI 20 FÉVRIER : JUSTICE ET SOUVERAINETÉ CHEZ LES AMÉRINDIENS NAVAJOS\, par Marine Bobin\nVENDREDI 27 FÉVRIER : LA COSEIGNEURIE DANS L’OCCIDENT MÉDIÉVAL\, par Hélène Débax\nVENDREDI 6 MARS : CRO-MAGNON À LA PLAGE\, par Jean-Marc Pétillon\nVENDREDI 13 MARS : OÙ EN EST-ON DANS LA CONNAISSANCE DES EXOPLANÈTES ?\, par Claire Moutou\nVENDREDI 20 MARS : LA GUILLOTINE\, LA PEINE DE MORT ET LA RÉVOLUTION\, par Guillaume Débat\nVENDREDI 27 MARS : L’ÉVOLUTION DES ANIMAUX INVERTÉBRÉS\, par Guillaume Dera\nVENDREDI 3 AVRIL : LA CHIMIE QUANTIQUE\, UNE PASSERELLE TENDUE ENTRE PHYSIQUE ET CHIMIE\, par Jean-Paul Malrieu\nVENDREDI 10 AVRIL : HONORER DIONYSOS – THÉÂTRE ET CITÉ DANS L’ATHÈNES CLASSIQUE\, par Marie-Hélène GARELLI\nVENDREDI 17 AVRIL : L’HISTOIRE DE LA RÉSISTANCE TOULOUSAINE\, par Elérika Leroy\nVENDREDI 24 AVRIL : POURQUOI N’Y A-T-IL QUE 8 PLANÈTES DANS LE SYSTÈME SOLAIRE ? par Clément Baruteau\nVENDREDI 22 MAI : LA MATHÉMATISATION DU RÉEL\, GRANDEUR ET DÉCADENCE\, par Jean-Claude Yakoubsohn\nVENDREDI 29 MAI : VARIAN FRY ET L’EMERGENCY RESCUE COMMITTEE\, par Martine Pujol\nVENDREDI 5 JUIN : GÉNOMIQUE ET ÉVOLUTION DES PLANTES\, par Maxime Bonhomme\nVENDREDI 12 JUIN : MÉTÉOS DE L’ESPACE – Rayons verts et cieux rouges\, sur Terre\, sur Mars et sur Jupiter\, par Jean-Marcel Piriou
URL:https://www.alderan-philo.org/activite/ny-a-t-il-que-8-planetes-dans-le-systeme-solaire/
LOCATION:Maison de la philosophie\, 29 rue de la digue\, toulouse\, 31300\, France
CATEGORIES:Conférences "Forum des sciences"
ATTACH;FMTTYPE=image/png:https://www.alderan-philo.org/wp-content/uploads/2025/07/2026-04-24-combien-de-planete-dans-le-systeme-solaire-copie.png
ORGANIZER;CN="UPP - Universit%C3%A9 Populaire de Philosophie":MAILTO:philo@alderan-philo.org
END:VEVENT
END:VCALENDAR