BEGIN:VCALENDAR
VERSION:2.0
PRODID:-//Université Populaire de Philosophie - Association ALDERAN - ECPv6.15.17//NONSGML v1.0//EN
CALSCALE:GREGORIAN
METHOD:PUBLISH
X-WR-CALNAME:Université Populaire de Philosophie - Association ALDERAN
X-ORIGINAL-URL:https://www.alderan-philo.org
X-WR-CALDESC:Évènements pour Université Populaire de Philosophie - Association ALDERAN
REFRESH-INTERVAL;VALUE=DURATION:PT1H
X-Robots-Tag:noindex
X-PUBLISHED-TTL:PT1H
BEGIN:VTIMEZONE
TZID:Europe/Paris
BEGIN:DAYLIGHT
TZOFFSETFROM:+0100
TZOFFSETTO:+0200
TZNAME:CEST
DTSTART:20250330T010000
END:DAYLIGHT
BEGIN:STANDARD
TZOFFSETFROM:+0200
TZOFFSETTO:+0100
TZNAME:CET
DTSTART:20251026T010000
END:STANDARD
BEGIN:DAYLIGHT
TZOFFSETFROM:+0100
TZOFFSETTO:+0200
TZNAME:CEST
DTSTART:20260329T010000
END:DAYLIGHT
BEGIN:STANDARD
TZOFFSETFROM:+0200
TZOFFSETTO:+0100
TZNAME:CET
DTSTART:20261025T010000
END:STANDARD
BEGIN:DAYLIGHT
TZOFFSETFROM:+0100
TZOFFSETTO:+0200
TZNAME:CEST
DTSTART:20270328T010000
END:DAYLIGHT
BEGIN:STANDARD
TZOFFSETFROM:+0200
TZOFFSETTO:+0100
TZNAME:CET
DTSTART:20271031T010000
END:STANDARD
END:VTIMEZONE
BEGIN:VEVENT
DTSTART;TZID=Europe/Paris:20260421T203000
DTEND;TZID=Europe/Paris:20260421T220000
DTSTAMP:20260421T110002
CREATED:20250606T082221Z
LAST-MODIFIED:20250606T082221Z
UID:17720-1776803400-1776808800@www.alderan-philo.org
SUMMARY:Cercle de réflexion PENSER LE BONHEUR - N°13 : Peut-on faire le bonheur des autres ?
DESCRIPTION:Cercle de réflexion philosophique sur le Bonheur : 15 débats philosophiques en visioconférence et replay\, le 1er et 3ème mardi du mois à 20H30\, animé par Eric lowen.  \nEn tenant compte des éclairages de la révolution anthropologique intervenue dans les sciences humaines\, comment peut-on penser le bonheur aujourd’hui ? Quelle définition peut-on donner du Bonheur ? Quelle différence avec le plaisir et le bien-être ? Est-il individuel ou collectif ? Est-il moral ou amoral ? Est-il accessible à tous ou seulement à certaine personnes ? Pourquoi de nombreux courants religieux et philosophiques s’opposent-ils au bonheur ? Si la notion de bonheur est encore recevable\, quels sont les principes qui permettent de l’atteindre\, les obstacles à dépasser ? … \nAutant de questions que nous essayerons d’aborder dans le cadre d’un cercle de réflexion annuel\, dans une approche matérialiste\, athée et humaniste.Voila les sujets que nous aborderons cette année : \n\n1 – Mardi 7 octobre 2025 : POURQUOI UN TEL INTÉRÊT POUR LE BONHEUR ?\n2 – Mardi 21 octobre : L’ATEMPORALITÉ DE LA QUESTION DU BONHEUR DANS LA CONDITION HUMAINE\n3 – Mardi 4 novembre : LE BONHEUR EST-IL UN MYTHE ? \n4 – Mardi 18 novembre : POURQUOI AUTANT DE DÉFINITIONS CONTRADICTOIRES DU BONHEUR ?\n5 – Mardi 2 décembre : LES RÉCUPÉRATIONS MERCANTILES DU BONHEUR\n6 – Mardi 6 janvier 2025 : LES RÉCUPÉRATIONS IDÉOLOGIQUES ET POLITIQUES DU BONHEUR\n7 – Mardi 20 janvier : PLAISIR ET BIEN-ÊTRE SONT-ILS LE BONHEUR ?\n8 – Mardi 3 février : LE BONHEUR\, POUR UNE DÉFINITION ANTHROPOLOGIQUE\n9 – Mardi 17 février : LE BONHEUR EST-IL COLLECTIF OU INDIVIDUEL ?\n10 – Mardi 3 mars : LA SOUFFRANCE REND-ELLE LE BONHEUR IMPOSSIBLE ?\n11 – Mardi 17 mars : LE BONHEUR EST-IL MORAL ? \n12 – Mardi 7 avril : L’INDIVIDUALISATION DU BONHEUR\n13 – Mardi 21 avril : PEUT-ON FAIRE LE BONHEUR DES AUTRES ?\n14 – Mardi 5 : LE BONHEUR EST-IL ACCESSIBLE À TOUT LE MONDE OU RÉSERVÉ À DES PERSONNES D’EXCEPTION ?\n15 – Mardi 19 mai  : LE BONHEUR EST-IL UN DROIT ?\n\nDébats philosophiques uniquement en visioconférence et replay. Avec le replay\, possibilité de suivre ces débats en décalé. Tarif non-adhérent : 100€ : tarif adhérent : 50€. \nInscription annuelle à la série complète. Possibilité de s’inscrire en cours d’année\, avec le replay vous pourrez rattraper les conférences-débats précédentes. \nRetour à la présentation complète du Cercle de Réflexion « PENSER LE BONHEUR »
URL:https://www.alderan-philo.org/activite/cercle-de-reflexion-peut-on-faire-le-bonheur-des-autres/
LOCATION:Maison de la philosophie\, 29 rue de la digue\, toulouse\, 31300\, France
ATTACH;FMTTYPE=image/jpeg:https://www.alderan-philo.org/wp-content/uploads/2025/06/CERCLE-DE-REFLEXION.jpg
ORGANIZER;CN="UPP - Universit%C3%A9 Populaire de Philosophie":MAILTO:philo@alderan-philo.org
END:VEVENT
END:VCALENDAR