BEGIN:VCALENDAR
VERSION:2.0
PRODID:-//Université Populaire de Philosophie - Association ALDERAN - ECPv6.15.17//NONSGML v1.0//EN
CALSCALE:GREGORIAN
METHOD:PUBLISH
X-WR-CALNAME:Université Populaire de Philosophie - Association ALDERAN
X-ORIGINAL-URL:https://www.alderan-philo.org
X-WR-CALDESC:Évènements pour Université Populaire de Philosophie - Association ALDERAN
REFRESH-INTERVAL;VALUE=DURATION:PT1H
X-Robots-Tag:noindex
X-PUBLISHED-TTL:PT1H
BEGIN:VTIMEZONE
TZID:Europe/Paris
BEGIN:DAYLIGHT
TZOFFSETFROM:+0100
TZOFFSETTO:+0200
TZNAME:CEST
DTSTART:20250330T010000
END:DAYLIGHT
BEGIN:STANDARD
TZOFFSETFROM:+0200
TZOFFSETTO:+0100
TZNAME:CET
DTSTART:20251026T010000
END:STANDARD
BEGIN:DAYLIGHT
TZOFFSETFROM:+0100
TZOFFSETTO:+0200
TZNAME:CEST
DTSTART:20260329T010000
END:DAYLIGHT
BEGIN:STANDARD
TZOFFSETFROM:+0200
TZOFFSETTO:+0100
TZNAME:CET
DTSTART:20261025T010000
END:STANDARD
BEGIN:DAYLIGHT
TZOFFSETFROM:+0100
TZOFFSETTO:+0200
TZNAME:CEST
DTSTART:20270328T010000
END:DAYLIGHT
BEGIN:STANDARD
TZOFFSETFROM:+0200
TZOFFSETTO:+0100
TZNAME:CET
DTSTART:20271031T010000
END:STANDARD
END:VTIMEZONE
BEGIN:VEVENT
DTSTART;TZID=Europe/Paris:20260420T180000
DTEND;TZID=Europe/Paris:20260420T200000
DTSTAMP:20260420T025120
CREATED:20250902T082056Z
LAST-MODIFIED:20251119T150654Z
UID:19167-1776708000-1776715200@www.alderan-philo.org
SUMMARY:LES INCELS\, OU LA HAINE DES FEMMES - Analyse du langage d’une communauté masculiniste
DESCRIPTION:Les incels\, ou « célibataires involontaires »\, forment des communautés masculinistes en ligne\, constituées de jeunes hommes hétérosexuels qui tiennent les femmes\, et plus particulièrement les féministes\, pour responsables de leur incapacité à avoir des relations romantiques et sexuelles. Au cours de la dernière décennie et au niveau mondial\, plus de 100 personnes ont été tuées lors de tueries de masse par de jeunes hommes se revendiquant incels. En France\, s’ils sont encore relativement méconnus\, 3 projets d’attentats ont été déjoués depuis un an. Si les passages à l’acte restent minoritaires\, en ligne\, la violence verbale (haine\, misogynie\, racisme) est omniprésente. Leur langage est aussi marqué par une grande créativité lexicale qui contribue aux discours de haine et à la construction des identités incels ? \n\n\n\n\n\n\n  \n\nConférence en présentiel uniquement. Participation : gratuit. \nConférence disponible en replay vidéo dans le PASS PHILO pour les adhérents. Pour prendre l’adhésion\, c’est par ici. Pour faire un don\, c’est par là. \nRetour au programme complet de l’ARS \n\nLUNDI 27 OCTOBRE : LES CYBER VIOLENCES : DE NOUVELLES FORMES DE VIOLENCES GENRÉES ? PAR GENEVIÈVE BONIFAIT\nLUNDI 17 NOVEMBRE : CARLA LONZI : UN FÉMINISME SANS MILITANTISME ? PAR MURIEL COMBES\nLUNDI 26 JANVIER : LES VIOLENCES SEXISTES ET SEXUELLES\, UN SUJET EN ENTREPRISE ? PAR KARINE RIEUX\nLUNDI 16 FÉVRIER : FRANÇOISE HÉRITIER\, UNE ANTHROPOLOGUE FÉMINISTE\, PAR JOCELYNE BOUCAULT\nJEUDI 5 MARS\, 20H30 CAFÉ PHILO AU CAFÉ SAINT-SERNIN : QUELLE EST LA PART DE RESPONSABILITÉ DES RELIGIONS DANS LES INÉGALITÉS HOMME / FEMME ?\nLUNDI 20 AVRIL : LES INCELS\, OU LA HAINE DES FEMMES\, PAR JOHANN TOURNEBIZE\nLUNDI 18 MAI : QUE DISENT LES SCIENCES DES DIFFÉRENCES ENTRE LES HOMMES ET LES FEMMES ? PAR JEAN-FRANÇOIS IZARD
URL:https://www.alderan-philo.org/activite/les-incels-ou-la-haine-des-femmes-analyse-du-langage-dune-communaute-masculiniste/
LOCATION:Espace des Diversités et de la Laïcité\, 38 rue d'Aubuisson\, Toulouse\, 31000\, France
CATEGORIES:Conférences APSG
ATTACH;FMTTYPE=image/png:https://www.alderan-philo.org/wp-content/uploads/2025/09/6-2026-04-20.png
ORGANIZER;CN="UPP - Universit%C3%A9 Populaire de Philosophie":MAILTO:philo@alderan-philo.org
END:VEVENT
BEGIN:VEVENT
DTSTART;TZID=Europe/Paris:20260420T180000
DTEND;TZID=Europe/Paris:20260420T200000
DTSTAMP:20260420T025120
CREATED:20250902T124048Z
LAST-MODIFIED:20260303T083320Z
UID:19195-1776708000-1776715200@www.alderan-philo.org
SUMMARY:MME DE POMPADOUR ET LES LUMIÈRES - Mécéne des Lumières françaises
DESCRIPTION:PHILOSOPHIE BUISSONNIÈRE 2026 : série de conférences annuelles sur l’histoire de la philosophie\, le lundi soir à 18H. Conférence N°6 :  \nFavorite du roi Louis XV surnommé « Le Bien-Aimé »\, celui-ci lui accorde le titre de Madame de Pompadour puis Duchesse. Elle fut l’une des figures les plus marquantes de son règne. Ouverte aux idées modernes\, elle soutient et subventionne les philosophes dont Voltaire\, Marmontel\, Rousseau. Elle encourage et protège Diderot et d’Alembert dans leur projet de l’Encyclopédie et sa publication. Pourvue d’ambition politique\, son influence s’étend. Femme intelligente au goût sûr dont les vues politiques et artistiques sont en avance sur son temps. Remarquable femme d’affaires\, elle assure le rayonnement de la France. Véritable mécène\, on lui doit : La manufacture de Sèvres\, l’École militaire; de même elle favorise l’aménagement de la place Louis XV devenue Place de la Concorde. Elle est à l’origine de l’entrée du Siècle des Lumières sous ce règne. \nConférence en présentiel à la Maison de la philosophie\, en visioconférence et replay. Possibilité de passer d’un mode de participation à l’autre. \nInscription au cycle complet ou à des conférences à l’unité.  \nCycle complet : adhérent 30 €\, non adhérent 60 €. Participation à l’unité\, tarif unique : 10 €. En prenant l’adhésion\, vous bénéficiez de tarifs réduits. \n\n1 – LUNDI 19 JANVIER : ZÉNON ET LES PARADOXES SUR L’INFINI\, par Éric Lowen \n2 – LUNDI 02 FÉVRIER : LA BOÉTIE\, LE DISCOURS DE LA SERVITUDE VOLONTAIRE\, ET LES ESSAIS DE MONTAIGNE\, par Olivier Guerrier\n3 – LUNDI 16 FÉVRIER : A LA RECHERCHE DU 1ER ATHÉE\, par François Faucon\n4 – LUNDI 16 MARS : EDWARD SAID ET LES PHILOSOPHIES DE LA QUESTION PALESTINIENNE\, par Matthieu Renault\n5 – LUNDI 20 AVRIL : MME DE POMPADOUR ET LES LUMIÈRES\, par Lynda Natan\n6 – LUNDI 27 AVRIL : ERNEST ARMAND ET L’ANARCHISME INDIVIDUALISTE\, par Patricia Pédussaut\n7 – LUNDI 04 MAI : ROMAIN GARY\, L’ÉLÉGANCE DE L’INQUIÉTUDE\, par Romain Bouvet \n8 – LUNDI 18 MAI : DELEUZE ET LA PEINTURE\, par Patrick Coste\n9 – LUNDI 01 JUIN : HUSSERL ET LE PROBLÈME DE L’EMPATHIE\, par Claudia-Cristina Serban\n10 – LUNDI 15 JUIN : VERCORS ET LA RÉSISTANCE CULTURELLE\, par Éric Lowen\n\nRetour à la présentation complète du programme Philosophie Buissonnière
URL:https://www.alderan-philo.org/activite/mme-de-pompadour-et-les-lumieres-mecene-des-lumieres-francaises/
LOCATION:Maison de la philosophie\, 29 rue de la digue\, toulouse\, 31300\, France
CATEGORIES:Cycle « Philosophie buissonnière »
ATTACH;FMTTYPE=image/jpeg:https://www.alderan-philo.org/wp-content/uploads/2025/09/2026-04-06-Mme-de-Pompadour2.jpg
ORGANIZER;CN="UPP - Universit%C3%A9 Populaire de Philosophie":MAILTO:philo@alderan-philo.org
END:VEVENT
END:VCALENDAR